Workbook

Sheet Kendali Global
A1: PEMERINTAH PROVINSI KALIMANTAN TIMUR
A2: LAPORAN REALISASI ANGGARAN PER BIDANG
A3: ='Kendali Rekening'!A3:W3 -> PER 02 SEPTEMBER 2024
A7: KODE REKENING | B7: URAIAN | C7: ANGGARAN | G7: ANGGARAN | H7: ANGKAS BULAN SEPTEMBER 2024 | I7: ANGKAS RAPIM MEI 2024 | J7: REALISASI | N7: % | U7: DEVIASI ANGKAS | V7: DEVIASI ANGKAS | W7: SISA PAGU
C8: MURNI | D8: FCPF | E8: DBH | F8: TOTAL | J8: MURNI | K8: FCPF | L8: DBH | M8: TOTAL | N8: MURNI | O8: FCPF | P8: DBH | Q8: PAGU | R8: SIPD | S8: ANGKAS | T8: TOTAL
A9: 3-27.0-00.0-00.01 | B9: DINAS PERKEBUNAN | C9: ='Kendali Rekening'!C13 -> 85508596971 | D9: ='Kendali Rekening'!D13 -> 4989929273 | E9: ='Kendali Rekening'!E13 -> 616605050 | F9: ='Kendali Rekening'!F13 -> 91115131294 | G9: =F9 -> 91115131294 | H9: =H10+H11 -> 79959363373 | I9: =I10+I11 -> 33460981867 | J9: ='Kendali Rekening'!O13 -> 3.6767719e+10 | K9: ='Kendali Rekening'!P13 -> 2495545724 | L9: ='Kendali Rekening'!Q13 -> 127391350 | M9: ='Kendali Rekening'!R13 -> 3.9390656e+10 | N9: ='Kendali Rekening'!S13 -> 42.998857 | O9: ='Kendali Rekening'!T13 -> 50.011645 | P9: ='Kendali Rekening'!U13 -> 20.660121 | Q9: =M9/G9*100 -> 43.23174 | R9: =M9/H9*100 -> 49.263344 | S9: =M9/H9*100 -> 49.263344 | T9: ='Kendali Rekening'!V13 -> 43.23174 | U9: =H9-M9 -> 4.0568707e+10 | V9: =H9-M9 -> 4.0568707e+10 | W9: ='Kendali Rekening'!W13 -> 5.1724475e+10
A10: 5.1.01 | B10: Belanja Pegawai | C10: ='Kendali Rekening'!C14 -> 21301798694 | D10: ='Kendali Rekening'!D14 -> 0 | E10: ='Kendali Rekening'!E14 -> 0 | F10: ='Kendali Rekening'!F14 -> 21301798694 | G10: =F10 -> 21301798694 | H10: 16933749274 | I10: 9512802097 | J10: ='Kendali Rekening'!O14 -> 13325882855 | K10: ='Kendali Rekening'!P14 -> 0 | L10: ='Kendali Rekening'!Q14 -> 0 | M10: ='Kendali Rekening'!R14 -> 13325882855 | N10: ='Kendali Rekening'!S14 -> 62.557548 | O10: ='Kendali Rekening'!T14 -> 0 | P10: ='Kendali Rekening'!U14 -> 0 | Q10: =M10/G10*100 -> 62.557548 | R10: =M10/H10*100 -> 78.694226 | S10: =M10/H10*100 -> 78.694226 | T10: ='Kendali Rekening'!V14 -> 62.557548 | U10: =H10-M10 -> 3607866419 | V10: =H10-M10 -> 3607866419 | W10: ='Kendali Rekening'!W14 -> 7975915839
A11: 5.1 | B11: Belanja Operasi Dinas dan UPTD | C11: ='Kendali Rekening'!C46 -> 64206798277 | D11: ='Kendali Rekening'!D46 -> 4989929273 | E11: ='Kendali Rekening'!E46 -> 616605050 | F11: ='Kendali Rekening'!F46 -> 69813332600 | G11: =F11 -> 69813332600 | H11: =H12+H16+H17+H18+H19+H20+H21+H22 -> 63025614099 | I11: =I12+I16+I17+I18+I19+I20+I21+I22 -> 23948179770 | J11: ='Kendali Rekening'!O46 -> 2.3441836e+10 | K11: ='Kendali Rekening'!P46 -> 2495545724 | L11: ='Kendali Rekening'!Q46 -> 127391350 | M11: ='Kendali Rekening'!R46 -> 2.6064773e+10 | N11: ='Kendali Rekening'!S46 -> 36.509898 | O11: ='Kendali Rekening'!T46 -> 50.011645 | P11: ='Kendali Rekening'!U46 -> 20.660121 | Q11: =M11/G11*100 -> 37.334951 | R11: =M11/H11*100 -> 41.355842 | S11: =M11/H11*100 -> 41.355842 | T11: ='Kendali Rekening'!V46 -> 37.334951 | U11: =H11-M11 -> 3.6960841e+10 | V11: =H11-M11 -> 3.6960841e+10 | W11: ='Kendali Rekening'!W46 -> 4.3748559e+10
B12: SEKRETARIAT | C12: ='Kendali Rekening'!C48 -> 13555891270 | D12: ='Kendali Rekening'!D48 -> 556107800 | E12: ='Kendali Rekening'!E48 -> 0 | F12: ='Kendali Rekening'!F48 -> 14111999070 | G12: =F12 -> 14111999070 | H12: =SUM(H13:H15) -> 11396187185 | I12: =SUM(I13:I15) -> 8036143369 | J12: ='Kendali Rekening'!O48 -> 7853476100 | K12: ='Kendali Rekening'!P48 -> 43182330 | L12: ='Kendali Rekening'!Q48 -> 0 | M12: ='Kendali Rekening'!R48 -> 7896658430 | N12: ='Kendali Rekening'!S48 -> 57.934045 | O12: ='Kendali Rekening'!T48 -> 7.7651006 | P12: ='Kendali Rekening'!U48 -> 0 | Q12: =M12/G12*100 -> 55.95705 | R12: =M12/H12*100 -> 69.292109 | S12: =M12/H12*100 -> 69.292109 | T12: ='Kendali Rekening'!V48 -> 55.95705 | U12: =H12-M12 -> 3499528755 | V12: =H12-M12 -> 3499528755 | W12: ='Kendali Rekening'!W48 -> 6215340640
B13: SUB BAGIAN UMUM DAN KEPEGAWAIAN | C13: ='Kendali Rekening'!C49 -> 11636724073 | D13: ='Kendali Rekening'!D49 -> 260000000 | E13: ='Kendali Rekening'!E49 -> 0 | F13: ='Kendali Rekening'!F49 -> 11896724073 | G13: =F13 -> 11896724073 | H13: 9416615868 | I13: 6665759212 | J13: ='Kendali Rekening'!O49 -> 6592231845 | K13: ='Kendali Rekening'!P49 -> 12000000 | L13: ='Kendali Rekening'!Q49 -> 0 | M13: ='Kendali Rekening'!R49 -> 6604231845 | N13: ='Kendali Rekening'!S49 -> 56.650238 | O13: ='Kendali Rekening'!T49 -> 4.6153846 | P13: ='Kendali Rekening'!U49 -> 0 | Q13: =M13/G13*100 -> 55.513029 | R13: =M13/H13*100 -> 70.133814 | S13: =M13/H13*100 -> 70.133814 | T13: ='Kendali Rekening'!V49 -> 55.513029 | U13: =H13-M13 -> 2812384023 | V13: =H13-M13 -> 2812384023 | W13: ='Kendali Rekening'!W49 -> 5292492228
B14: SUB BAGIAN PERENCANAAN PROGRAM | C14: ='Kendali Rekening'!C185 -> 1724767197 | D14: ='Kendali Rekening'!D185 -> 296107800 | E14: ='Kendali Rekening'!E185 -> 0 | F14: ='Kendali Rekening'!F185 -> 2020874997 | G14: =F14 -> 2020874997 | H14: 1786121297 | I14: 1193734137 | J14: ='Kendali Rekening'!O185 -> 1156630305 | K14: ='Kendali Rekening'!P185 -> 31182330 | L14: ='Kendali Rekening'!Q185 -> 0 | M14: ='Kendali Rekening'!R185 -> 1187812635 | N14: ='Kendali Rekening'!S185 -> 67.060082 | O14: ='Kendali Rekening'!T185 -> 10.530736 | P14: ='Kendali Rekening'!U185 -> 0 | Q14: =M14/G14*100 -> 58.777145 | R14: =M14/H14*100 -> 66.50235 | S14: =M14/H14*100 -> 66.50235 | T14: ='Kendali Rekening'!V185 -> 58.777145 | U14: =H14-M14 -> 598308662 | V14: =H14-M14 -> 598308662 | W14: ='Kendali Rekening'!W185 -> 833062362
B15: SUB BAGIAN KEUANGAN DAN ASET | C15: ='Kendali Rekening'!C148 -> 194400000 | D15: ='Kendali Rekening'!D148 -> 0 | E15: ='Kendali Rekening'!E148 -> 0 | F15: ='Kendali Rekening'!F148 -> 194400000 | G15: =F15 -> 194400000 | H15: 193450020 | I15: 176650020 | J15: ='Kendali Rekening'!O148 -> 104613950 | K15: ='Kendali Rekening'!P148 -> 0 | L15: ='Kendali Rekening'!Q148 -> 0 | M15: ='Kendali Rekening'!R148 -> 104613950 | N15: ='Kendali Rekening'!S148 -> 53.81376 | O15: ='Kendali Rekening'!T148 -> 0 | P15: ='Kendali Rekening'!U148 -> 0 | Q15: =M15/G15*100 -> 53.81376 | R15: =M15/H15*100 -> 54.078025 | S15: =M15/H15*100 -> 54.078025 | T15: ='Kendali Rekening'!V148 -> 53.81376 | U15: =H15-M15 -> 88836070 | V15: =H15-M15 -> 88836070 | W15: ='Kendali Rekening'!W148 -> 89786050
B16: BIDANG PENGEMBANGAN KOMODITI | C16: ='Kendali Rekening'!C218 -> 21806682510 | D16: ='Kendali Rekening'!D218 -> 368452000 | E16: ='Kendali Rekening'!E218 -> 0 | F16: ='Kendali Rekening'!F218 -> 22175134510 | G16: =F16 -> 22175134510 | H16: 21812456066 | I16: 2181333056 | J16: ='Kendali Rekening'!O218 -> 1931892424 | K16: ='Kendali Rekening'!P218 -> 311786242 | L16: ='Kendali Rekening'!Q218 -> 0 | M16: ='Kendali Rekening'!R218 -> 2243678666 | N16: ='Kendali Rekening'!S218 -> 8.8591762 | O16: ='Kendali Rekening'!T218 -> 84.620586 | P16: ='Kendali Rekening'!U218 -> 0 | Q16: =M16/G16*100 -> 10.117993 | R16: =M16/H16*100 -> 10.286227 | S16: =M16/H16*100 -> 10.286227 | T16: ='Kendali Rekening'!V218 -> 10.117993 | U16: =H16-M16 -> 19568777400 | V16: =H16-M16 -> 19568777400 | W16: ='Kendali Rekening'!W218 -> 19931455844
B17: BIDANG PERKEBUNAN BERKELANJUTAN | C17: ='Kendali Rekening'!C270 -> 2761777077 | D17: ='Kendali Rekening'!D270 -> 2677899423 | E17: ='Kendali Rekening'!E270 -> 475845050 | F17: ='Kendali Rekening'!F270 -> 5915521550 | G17: =F17 -> 5915521550 | H17: 5515167840 | I17: 3830300830 | J17: ='Kendali Rekening'!O270 -> 1891350182 | K17: ='Kendali Rekening'!P270 -> 1632032022 | L17: ='Kendali Rekening'!Q270 -> 114791350 | M17: ='Kendali Rekening'!R270 -> 3638173554 | N17: ='Kendali Rekening'!S270 -> 68.483086 | O17: ='Kendali Rekening'!T270 -> 60.944485 | P17: ='Kendali Rekening'!U270 -> 24.123683 | Q17: =M17/G17*100 -> 61.50216 | R17: =M17/H17*100 -> 65.966688 | S17: =M17/H17*100 -> 65.966688 | T17: ='Kendali Rekening'!V270 -> 61.50216 | U17: =H17-M17 -> 1876994286 | V17: =H17-M17 -> 1876994286 | W17: ='Kendali Rekening'!W270 -> 2277347996
B18: BIDANG USAHA | C18: ='Kendali Rekening'!C312 -> 1218929441 | D18: ='Kendali Rekening'!D312 -> 290816000 | E18: ='Kendali Rekening'!E312 -> 140760000 | F18: ='Kendali Rekening'!F312 -> 1650505441 | G18: =F18 -> 1650505441 | H18: 1445669441 | I18: 984382000 | J18: ='Kendali Rekening'!O312 -> 1250133218 | K18: ='Kendali Rekening'!P312 -> 78869500 | L18: ='Kendali Rekening'!Q312 -> 12600000 | M18: ='Kendali Rekening'!R312 -> 1341602718 | N18: ='Kendali Rekening'!S312 -> 102.55993 | O18: ='Kendali Rekening'!T312 -> 27.120069 | P18: ='Kendali Rekening'!U312 -> 8.9514066 | Q18: =M18/G18*100 -> 81.284356 | R18: =M18/H18*100 -> 92.801486 | S18: =M18/H18*100 -> 92.801486 | T18: ='Kendali Rekening'!V312 -> 81.284356 | U18: =H18-M18 -> 104066723 | V18: =H18-M18 -> 104066723 | W18: ='Kendali Rekening'!W312 -> 308902723
B19: BIDANG PENGOLAHAN DAN PEMASARAN | C19: ='Kendali Rekening'!C334 -> 6922837685 | D19: ='Kendali Rekening'!D334 -> 496541600 | E19: ='Kendali Rekening'!E334 -> 0 | F19: ='Kendali Rekening'!F334 -> 7419379285 | G19: =F19 -> 7419379285 | H19: 5942408311 | I19: 2384296381 | J19: ='Kendali Rekening'!O334 -> 1945318676 | K19: ='Kendali Rekening'!P334 -> 72405970 | L19: ='Kendali Rekening'!Q334 -> 0 | M19: ='Kendali Rekening'!R334 -> 2017724646 | N19: ='Kendali Rekening'!S334 -> 28.100019 | O19: ='Kendali Rekening'!T334 -> 14.582055 | P19: ='Kendali Rekening'!U334 -> 0 | Q19: =M19/G19*100 -> 27.19533 | R19: =M19/H19*100 -> 33.954662 | S19: =M19/H19*100 -> 33.954662 | T19: ='Kendali Rekening'!V334 -> 27.19533 | U19: =H19-M19 -> 3924683665 | V19: =H19-M19 -> 3924683665 | W19: ='Kendali Rekening'!W334 -> 5401654639
B20: UPTD PBP (PENGAWASAN BENIH PERKEBUNAN) | C20: ='Kendali Rekening'!C388 -> 2802512814 | D20: ='Kendali Rekening'!D388 -> 0 | E20: ='Kendali Rekening'!E388 -> 0 | F20: ='Kendali Rekening'!F388 -> 2802512814 | G20: =F20 -> 2802512814 | H20: 2444436799 | I20: 1281768619 | J20: ='Kendali Rekening'!O388 -> 1695924671 | K20: ='Kendali Rekening'!P388 -> 0 | L20: ='Kendali Rekening'!Q388 -> 0 | M20: ='Kendali Rekening'!R388 -> 1695924671 | N20: ='Kendali Rekening'!S388 -> 60.514431 | O20: ='Kendali Rekening'!T388 -> 0 | P20: ='Kendali Rekening'!U388 -> 0 | Q20: =M20/G20*100 -> 60.514431 | R20: =M20/H20*100 -> 69.378954 | S20: =M20/H20*100 -> 69.378954 | T20: ='Kendali Rekening'!V388 -> 60.514431 | U20: =H20-M20 -> 748512128 | V20: =H20-M20 -> 748512128 | W20: ='Kendali Rekening'!W388 -> 1106588143
B21: UPTD P2TP (PENGEMBANGAN PERLINDUNGAN TANAMAN PERKEBUNAN) | C21: ='Kendali Rekening'!C480 -> 5194136970 | D21: ='Kendali Rekening'!D480 -> 600112450 | E21: ='Kendali Rekening'!E480 -> 0 | F21: ='Kendali Rekening'!F480 -> 5794249420 | G21: =F21 -> 5794249420 | H21: 5411280575 | I21: 1612407165 | J21: ='Kendali Rekening'!O480 -> 1911102198 | K21: ='Kendali Rekening'!P480 -> 357269660 | L21: ='Kendali Rekening'!Q480 -> 0 | M21: ='Kendali Rekening'!R480 -> 2268371858 | N21: ='Kendali Rekening'!S480 -> 36.79345 | O21: ='Kendali Rekening'!T480 -> 59.533786 | P21: ='Kendali Rekening'!U480 -> 0 | Q21: =M21/G21*100 -> 39.148675 | R21: =M21/H21*100 -> 41.919317 | S21: =M21/H21*100 -> 41.919317 | T21: ='Kendali Rekening'!V480 -> 39.148675 | U21: =H21-M21 -> 3142908717 | V21: =H21-M21 -> 3142908717 | W21: ='Kendali Rekening'!W480 -> 3525877562
B22: UPTD PBTP (PRODUSEN BENIH TANAMAN PERKEBUNAN) | C22: ='Kendali Rekening'!C570 -> 9944030510 | D22: ='Kendali Rekening'!D570 -> 0 | E22: ='Kendali Rekening'!E570 -> 0 | F22: ='Kendali Rekening'!F570 -> 9944030510 | G22: =F22 -> 9944030510 | H22: 9058007882 | I22: 3637548350 | J22: ='Kendali Rekening'!O570 -> 4.9626389e+09 | K22: ='Kendali Rekening'!P570 -> 0 | L22: ='Kendali Rekening'!Q570 -> 0 | M22: ='Kendali Rekening'!R570 -> 4.9626389e+09 | N22: ='Kendali Rekening'!S570 -> 49.905709 | O22: ='Kendali Rekening'!T570 -> 0 | P22: ='Kendali Rekening'!U570 -> 0 | Q22: =M22/G22*100 -> 49.905709 | R22: =M22/H22*100 -> 54.787311 | S22: =M22/H22*100 -> 54.787311 | T22: ='Kendali Rekening'!V570 -> 49.905709 | U22: =H22-M22 -> 4.095369e+09 | V22: =H22-M22 -> 4.095369e+09 | W22: ='Kendali Rekening'!W570 -> 4.9813916e+09
S24: 66% - 100%
S25: 36% - 65%
S26: 0% - 35%

Sheet Kendali Rekening
A1: PEMERINTAH PROVINSI KALIMANTAN TIMUR
A2: LAPORAN REALISASI ANGGARAN PER BIDANG
A3: PER 02 SEPTEMBER 2024
A6: Urusan Pemerintahan | B6: : Urusan Pilihan
A7: Bidang Pemerintahan | B7: : Pertanian
A8: Unit Organisasi | B8: : Dinas Perkebunan | C8: =C9-C13 -> 1207790 | D8: =D9-D13 -> -1207790 | E8: =E9-E13 -> 0 | F8: =F9-F13 -> 0 | G8: DPI BERMASALAH
C9: 85509804761 | D9: 4988721483 | E9: 616605050 | F9: =SUM(C9:E9) -> 91115131294 | H9: =G9-F9 -> -91115131294
A10: KODE REKENING | B10: URAIAN | C10: ANGGARAN | G10: REALISASI | S10: % | W10: SISA PAGU
C11: MURNI | D11: FCPF | E11: DBH | F11: TOTAL | G11: BULAN LALU | K11: BULAN INI | O11: JUMLAH
G12: MURNI | H12: FCPF | I12: DBH | J12: TOTAL | K12: MURNI | L12: FCPF | M12: DBH | N12: TOTAL | O12: MURNI | P12: FCPF | Q12: DBH | R12: TOTAL | S12: MURNI | T12: FCPF | U12: DBH | V12: TOTAL
A13: 3-27.0-00.0-00.01 | B13: DINAS PERKEBUNAN | C13: =C14+C46 -> 85508596971 | D13: =D14+D46 -> 4989929273 | E13: =E14+E46 -> 616605050 | F13: =C13+D13+E13 -> 91115131294 | G13: =G14+G46 -> 3.6767719e+10 | H13: =H14+H46 -> 2495545724 | I13: =I14+I46 -> 127391350 | J13: =G13+H13+I13 -> 3.9390656e+10 | K13: =K14+K46 -> 0 | L13: =L14+L46 -> 0 | M13: =M14+M46 -> 0 | N13: =SUM(K13:M13) -> 0 | O13: =K13+G13 -> 3.6767719e+10 | P13: =L13+H13 -> 2495545724 | Q13: =M13+I13 -> 127391350 | R13: =SUM(O13:Q13) -> 3.9390656e+10 | S13: =O13/C13*100 -> 42.998857 | T13: =P13/D13*100 -> 50.011645 | U13: =Q13/E13*100 -> 20.660121 | V13: =R13/F13*100 -> 43.23174 | W13: =F13-R13 -> 5.1724475e+10 | X13: =R13 -> 3.9390656e+10 | Y13: 13736756657
A14: 5.1.01 | B14: Belanja Pegawai | C14: =C17+C42 -> 21301798694 | D14: =D17+D42 -> 0 | E14: =E17+E42 -> 0 | F14: =C14+D14+E14 -> 21301798694 | G14: =G17+G42 -> 13325882855 | H14: =H17+H42 -> 0 | I14: =I17+I42 -> 0 | J14: =G14+H14+I14 -> 13325882855 | K14: =K17+K42 -> 0 | L14: =L17+L42 -> 0 | M14: =M17+M42 -> 0 | N14: =SUM(K14:M14) -> 0 | O14: =K14+G14 -> 13325882855 | P14: =L14+H14 -> 0 | Q14: =M14+I14 -> 0 | R14: =SUM(O14:Q14) -> 13325882855 | S14: =O14/C14*100 -> 62.557548 | T14: 0 | U14: 0 | V14: =R14/F14*100 -> 62.557548 | W14: =F14-R14 -> 7975915839 | X14: =X13-Y13 -> 2.56539e+10
A15: Program (3.27.01) | B15: PROGRAM PENUNJANG URUSAN PEMERINTAHAN DAERAH PROVINSI | C15: =C16 -> 21301798694 | D15: =D16 -> 0 | E15: =E16 -> 0 | F15: =C15+D15+E15 -> 21301798694 | G15: =G16 -> 13325882855 | H15: =H16 -> 0 | I15: =I16 -> 0 | J15: =G15+H15+I15 -> 13325882855 | K15: =K16 -> 0 | L15: =L16 -> 0 | M15: =M16 -> 0 | N15: =SUM(K15:M15) -> 0 | O15: =K15+G15 -> 13325882855 | P15: =L15+H15 -> 0 | Q15: =M15+I15 -> 0 | R15: =SUM(O15:Q15) -> 13325882855 | S15: =O15/C15*100 -> 62.557548 | T15: 0 | U15: 0 | V15: =R15/F15*100 -> 62.557548 | W15: =F15-R15 -> 7975915839
A16: Kegiatan (3.27.01.1.02) | B16: Administrasi Keuangan Perangkat Daerah | C16: =C17+C42 -> 21301798694 | D16: =D17+D42 -> 0 | E16: =E17+E42 -> 0 | F16: =C16+D16+E16 -> 21301798694 | G16: =G17+G42 -> 13325882855 | H16: =H17+H42 -> 0 | I16: =I17+I42 -> 0 | J16: =G16+H16+I16 -> 13325882855 | K16: =K17+K42 -> 0 | L16: =L17+L42 -> 0 | M16: =M17+M42 -> 0 | N16: =SUM(K16:M16) -> 0 | O16: =K16+G16 -> 13325882855 | P16: =L16+H16 -> 0 | Q16: =M16+I16 -> 0 | R16: =SUM(O16:Q16) -> 13325882855 | S16: =O16/C16*100 -> 62.557548 | T16: 0 | U16: 0 | V16: =R16/F16*100 -> 62.557548 | W16: =F16-R16 -> 7975915839
A17: 3.27.01.1.02.01 | B17: Penyediaan Gaji dan Tunjangan ASN | C17: =SUM(C18:C41) -> 20816878694 | D17: =SUM(D18:D41) -> 0 | E17: =SUM(E18:E41) -> 0 | F17: =C17+D17+E17 -> 20816878694 | G17: =SUM(G18:G41) -> 13049802855 | H17: =SUM(H18:H41) -> 0 | I17: =SUM(I18:I41) -> 0 | J17: =G17+H17+I17 -> 13049802855 | K17: =SUM(K18:K41) -> 0 | L17: =SUM(L18:L41) -> 0 | M17: =SUM(M18:M41) -> 0 | N17: =SUM(K17:M17) -> 0 | O17: =K17+G17 -> 13049802855 | P17: =L17+H17 -> 0 | Q17: =M17+I17 -> 0 | R17: =SUM(O17:Q17) -> 13049802855 | S17: =O17/C17*100 -> 62.688567 | T17: 0 | U17: 0 | V17: =R17/F17*100 -> 62.688567 | W17: =F17-R17 -> 7767075839
A18: 5.1.01.01.01.0001 | B18: Belanja Gaji Pokok PNS | C18: =4220976004-15000006 -> 4205975998 | D18: 0 | E18: 0 | F18: =C18+D18+E18 -> 4205975998 | G18: 2982746813 | H18: 0 | I18: 0 | J18: =G18+H18+I18 -> 2982746813 | N18: =SUM(K18:M18) -> 0 | O18: =K18+G18 -> 2982746813 | P18: =L18+H18 -> 0 | Q18: =M18+I18 -> 0 | R18: =SUM(O18:Q18) -> 2982746813 | S18: =O18/C18*100 -> 70.916877 | T18: 0 | U18: 0 | V18: =R18/F18*100 -> 70.916877 | W18: =F18-R18 -> 1223229185 | X18: =G18+K18 -> 2982746813 | Y18: =H18+L18 -> 0 | Z18: =I18+M18 -> 0
A19: 5.1.01.01.01.0002 | B19: Belanja Gaji Pokok PPPK | C19: 554516200 | D19: 0 | E19: 0 | F19: =C19+D19+E19 -> 554516200 | G19: 376483254 | H19: 0 | I19: 0 | J19: =G19+H19+I19 -> 376483254 | N19: =SUM(K19:M19) -> 0 | O19: =K19+G19 -> 376483254 | P19: =L19+H19 -> 0 | Q19: =M19+I19 -> 0 | R19: =SUM(O19:Q19) -> 376483254 | S19: =O19/C19*100 -> 67.894005 | T19: 0 | U19: 0 | V19: =R19/F19*100 -> 67.894005 | W19: =F19-R19 -> 178032946 | X19: =G19+K19 -> 376483254 | Y19: =H19+L19 -> 0 | Z19: =I19+M19 -> 0
A20: 5.1.01.01.02.0001 | B20: Belanja Tunjangan Keluarga PNS | C20: =389794006+8000006 -> 397794012 | D20: 0 | E20: 0 | F20: =C20+D20+E20 -> 397794012 | G20: 284256060 | H20: 0 | I20: 0 | J20: =G20+H20+I20 -> 284256060 | N20: =SUM(K20:M20) -> 0 | O20: =K20+G20 -> 284256060 | P20: =L20+H20 -> 0 | Q20: =M20+I20 -> 0 | R20: =SUM(O20:Q20) -> 284256060 | S20: =O20/C20*100 -> 71.458104 | T20: 0 | U20: 0 | V20: =R20/F20*100 -> 71.458104 | W20: =F20-R20 -> 113537952 | X20: =G20+K20 -> 284256060 | Y20: =H20+L20 -> 0 | Z20: =I20+M20 -> 0
A21: 5.1.01.01.02.0002 | B21: Belanja Tunjangan Keluarga PPPK | C21: 75600000 | D21: 0 | E21: 0 | F21: =C21+D21+E21 -> 75600000 | G21: 42956040 | H21: 0 | I21: 0 | J21: =G21+H21+I21 -> 42956040 | N21: =SUM(K21:M21) -> 0 | O21: =K21+G21 -> 42956040 | P21: =L21+H21 -> 0 | Q21: =M21+I21 -> 0 | R21: =SUM(O21:Q21) -> 42956040 | S21: =O21/C21*100 -> 56.820159 | T21: 0 | U21: 0 | V21: =R21/F21*100 -> 56.820159 | W21: =F21-R21 -> 32643960 | X21: =G21+K21 -> 42956040 | Y21: =H21+L21 -> 0 | Z21: =I21+M21 -> 0
A22: 5.1.01.01.03.0001 | B22: Belanja Tunjangan Jabatan PNS | C22: 349710004 | D22: 0 | E22: 0 | F22: =C22+D22+E22 -> 349710004 | G22: 222700000 | H22: 0 | I22: 0 | J22: =G22+H22+I22 -> 222700000 | N22: =SUM(K22:M22) -> 0 | O22: =K22+G22 -> 222700000 | P22: =L22+H22 -> 0 | Q22: =M22+I22 -> 0 | R22: =SUM(O22:Q22) -> 222700000 | S22: =O22/C22*100 -> 63.681335 | T22: 0 | U22: 0 | V22: =R22/F22*100 -> 63.681335 | W22: =F22-R22 -> 127010004 | X22: =G22+K22 -> 222700000 | Y22: =H22+L22 -> 0 | Z22: =I22+M22 -> 0
A23: 5.1.01.01.04.0001 | B23: Belanja Tunjangan Fungsional PNS | C23: =59840004-3000004 -> 56840000 | D23: 0 | E23: 0 | F23: =C23+D23+E23 -> 56840000 | G23: 31240000 | H23: 0 | I23: 0 | J23: =G23+H23+I23 -> 31240000 | N23: =SUM(K23:M23) -> 0 | O23: =K23+G23 -> 31240000 | P23: =L23+H23 -> 0 | Q23: =M23+I23 -> 0 | R23: =SUM(O23:Q23) -> 31240000 | S23: =O23/C23*100 -> 54.961295 | T23: 0 | U23: 0 | V23: =R23/F23*100 -> 54.961295 | W23: =F23-R23 -> 25600000 | X23: =G23+K23 -> 31240000 | Y23: =H23+L23 -> 0 | Z23: =I23+M23 -> 0
A24: 5.1.01.01.04.0002 | B24: Belanja Tunjangan Fungsional PPPK | C24: =95760000-1999998 -> 93760002 | D24: 0 | E24: 0 | F24: =C24+D24+E24 -> 93760002 | G24: 58480000 | H24: 0 | I24: 0 | J24: =G24+H24+I24 -> 58480000 | N24: =SUM(K24:M24) -> 0 | O24: =K24+G24 -> 58480000 | P24: =L24+H24 -> 0 | Q24: =M24+I24 -> 0 | R24: =SUM(O24:Q24) -> 58480000 | S24: =O24/C24*100 -> 62.372012 | T24: 0 | U24: 0 | V24: =R24/F24*100 -> 62.372012 | W24: =F24-R24 -> 35280002 | X24: =G24+K24 -> 58480000 | Y24: =H24+L24 -> 0 | Z24: =I24+M24 -> 0
A25: 5.1.01.01.05.0001 | B25: Belanja Tunjangan Fungsional Umum PNS | C25: 103033000 | D25: 0 | E25: 0 | F25: =C25+D25+E25 -> 103033000 | G25: 68315000 | H25: 0 | I25: 0 | J25: =G25+H25+I25 -> 68315000 | N25: =SUM(K25:M25) -> 0 | O25: =K25+G25 -> 68315000 | P25: =L25+H25 -> 0 | Q25: =M25+I25 -> 0 | R25: =SUM(O25:Q25) -> 68315000 | S25: =O25/C25*100 -> 66.304 | T25: 0 | U25: 0 | V25: =R25/F25*100 -> 66.304 | W25: =F25-R25 -> 34718000 | X25: =G25+K25 -> 68315000 | Y25: =H25+L25 -> 0 | Z25: =I25+M25 -> 0
A26: 5.1.01.01.06.0001 | B26: Belanja Tunjangan Beras PNS | C26: 227591000 | D26: 0 | E26: 0 | F26: =C26+D26+E26 -> 227591000 | G26: 150850860 | H26: 0 | I26: 0 | J26: =G26+H26+I26 -> 150850860 | N26: =SUM(K26:M26) -> 0 | O26: =K26+G26 -> 150850860 | P26: =L26+H26 -> 0 | Q26: =M26+I26 -> 0 | R26: =SUM(O26:Q26) -> 150850860 | S26: =O26/C26*100 -> 66.281558 | T26: 0 | U26: 0 | V26: =R26/F26*100 -> 66.281558 | W26: =F26-R26 -> 76740140 | X26: =G26+K26 -> 150850860 | Y26: =H26+L26 -> 0 | Z26: =I26+M26 -> 0
A27: 5.1.01.01.06.0001 | B27: Belanja Tunjangan Beras PPPK | C27: 53900000 | D27: 0 | E27: 0 | F27: =C27+D27+E27 -> 53900000 | G27: 26722980 | H27: 0 | I27: 0 | J27: =G27+H27+I27 -> 26722980 | N27: =SUM(K27:M27) -> 0 | O27: =K27+G27 -> 26722980 | P27: =L27+H27 -> 0 | Q27: =M27+I27 -> 0 | R27: =SUM(O27:Q27) -> 26722980 | S27: =O27/C27*100 -> 49.578813 | T27: 0 | U27: 0 | V27: =R27/F27*100 -> 49.578813 | W27: =F27-R27 -> 27177020 | X27: =G27+K27 -> 26722980 | Y27: =H27+L27 -> 0 | Z27: =I27+M27 -> 0
A28: 5.1.01.01.07.0001 | B28: Belanja Tunjangan PPh/Tunjangan Khusus PNS | C28: =24206000+24000004 -> 48206004 | D28: 0 | E28: 0 | F28: =C28+D28+E28 -> 48206004 | G28: 5962145 | H28: 0 | I28: 0 | J28: =G28+H28+I28 -> 5962145 | N28: =SUM(K28:M28) -> 0 | O28: =K28+G28 -> 5962145 | P28: =L28+H28 -> 0 | Q28: =M28+I28 -> 0 | R28: =SUM(O28:Q28) -> 5962145 | S28: =O28/C28*100 -> 12.368055 | T28: 0 | U28: 0 | V28: =R28/F28*100 -> 12.368055 | W28: =F28-R28 -> 42243859 | X28: =G28+K28 -> 5962145 | Y28: =H28+L28 -> 0 | Z28: =I28+M28 -> 0
A29: 5.1.01.01.07.0002 | B29: Belanja Tunjangan PPh/Tunjangan Khusus PPPK | C29: 3000004 | F29: =C29+D29+E29 -> 3000004 | G29: 0 | H29: 0 | I29: 0 | J29: =G29+H29+I29 -> 0 | N29: =SUM(K29:M29) -> 0 | O29: =K29+G29 -> 0 | P29: =L29+H29 -> 0 | Q29: =M29+I29 -> 0 | R29: =SUM(O29:Q29) -> 0 | S29: =O29/C29*100 -> 0 | T29: 0 | U29: 0 | V29: =R29/F29*100 -> 0 | W29: =F29-R29 -> 3000004 | X29: =G29+K29 -> 0 | Y29: =H29+L29 -> 0 | Z29: =I29+M29 -> 0
A30: 5.1.01.01.08.0001 | B30: Belanja Pembulatan Gaji PNS | C30: 70000 | D30: 0 | E30: 0 | F30: =C30+D30+E30 -> 70000 | G30: 36919 | H30: 0 | I30: 0 | J30: =G30+H30+I30 -> 36919 | N30: =SUM(K30:M30) -> 0 | O30: =K30+G30 -> 36919 | P30: =L30+H30 -> 0 | Q30: =M30+I30 -> 0 | R30: =SUM(O30:Q30) -> 36919 | S30: =O30/C30*100 -> 52.741429 | T30: 0 | U30: 0 | V30: =R30/F30*100 -> 52.741429 | W30: =F30-R30 -> 33081 | X30: =G30+K30 -> 36919 | Y30: =H30+L30 -> 0 | Z30: =I30+M30 -> 0
A31: 5.1.01.01.08.0002 | B31: Belanja Pembulatan Gaji PPPK | C31: =10000+2 -> 10002 | D31: 0 | E31: 0 | F31: =C31+D31+E31 -> 10002 | G31: 4737 | H31: 0 | I31: 0 | J31: =G31+H31+I31 -> 4737 | N31: =SUM(K31:M31) -> 0 | O31: =K31+G31 -> 4737 | P31: =L31+H31 -> 0 | Q31: =M31+I31 -> 0 | R31: =SUM(O31:Q31) -> 4737 | S31: =O31/C31*100 -> 47.360528 | T31: 0 | U31: 0 | V31: =R31/F31*100 -> 47.360528 | W31: =F31-R31 -> 5265 | X31: =G31+K31 -> 4737 | Y31: =H31+L31 -> 0 | Z31: =I31+M31 -> 0
A32: 5.1.01.01.09.0001 | B32: Belanja Iuran Jaminan Kesehatan PNS | C32: =391387008+47490000 -> 438877008 | D32: 0 | E32: 0 | F32: =C32+D32+E32 -> 438877008 | G32: 158152333 | H32: 0 | I32: 0 | J32: =G32+H32+I32 -> 158152333 | N32: =SUM(K32:M32) -> 0 | O32: =K32+G32 -> 158152333 | P32: =L32+H32 -> 0 | Q32: =M32+I32 -> 0 | R32: =SUM(O32:Q32) -> 158152333 | S32: =O32/C32*100 -> 36.035684 | T32: 0 | U32: 0 | V32: =R32/F32*100 -> 36.035684 | W32: =F32-R32 -> 280724675 | X32: =G32+K32 -> 158152333 | Y32: =H32+L32 -> 0 | Z32: =I32+M32 -> 0
A33: 5.1.01.01.09.0002 | B33: Belanja Iuran Jaminan Kesehatan PPPK | C33: 43800000 | D33: 0 | E33: 0 | F33: =C33+D33+E33 -> 43800000 | G33: 15992092 | H33: 0 | I33: 0 | J33: =G33+H33+I33 -> 15992092 | N33: =SUM(K33:M33) -> 0 | O33: =K33+G33 -> 15992092 | P33: =L33+H33 -> 0 | Q33: =M33+I33 -> 0 | R33: =SUM(O33:Q33) -> 15992092 | S33: =O33/C33*100 -> 36.511626 | T33: 0 | U33: 0 | V33: =R33/F33*100 -> 36.511626 | W33: =F33-R33 -> 27807908 | X33: =G33+K33 -> 15992092 | Y33: =H33+L33 -> 0 | Z33: =I33+M33 -> 0
A34: 5.1.01.01.10.0001 | B34: Belanja Iuran Jaminan Kecelakaan Kerja PNS | C34: 8471364 | D34: 0 | E34: 0 | F34: =C34+D34+E34 -> 8471364 | G34: 5619761 | H34: 0 | I34: 0 | J34: =G34+H34+I34 -> 5619761 | N34: =SUM(K34:M34) -> 0 | O34: =K34+G34 -> 5619761 | P34: =L34+H34 -> 0 | Q34: =M34+I34 -> 0 | R34: =SUM(O34:Q34) -> 5619761 | S34: =O34/C34*100 -> 66.338325 | T34: 0 | U34: 0 | V34: =R34/F34*100 -> 66.338325 | W34: =F34-R34 -> 2851603 | X34: =G34+K34 -> 5619761 | Y34: =H34+L34 -> 0 | Z34: =I34+M34 -> 0
A35: 5.1.01.01.10.0002 | B35: Belanja Iuran Jaminan Kecelakaan Kerja PPPK | C35: 1200000 | D35: 0 | E35: 0 | F35: =C35+D35+E35 -> 1200000 | G35: 630645 | H35: 0 | I35: 0 | J35: =G35+H35+I35 -> 630645 | N35: =SUM(K35:M35) -> 0 | O35: =K35+G35 -> 630645 | P35: =L35+H35 -> 0 | Q35: =M35+I35 -> 0 | R35: =SUM(O35:Q35) -> 630645 | S35: =O35/C35*100 -> 52.55375 | T35: 0 | U35: 0 | V35: =R35/F35*100 -> 52.55375 | W35: =F35-R35 -> 569355 | X35: =G35+K35 -> 630645 | Y35: =H35+L35 -> 0 | Z35: =I35+M35 -> 0
A36: 5.1.01.01.11.0001 | B36: Belanja Iuran Jaminan Kematian PNS | C36: 25414104 | D36: 0 | E36: 0 | F36: =C36+D36+E36 -> 25414104 | G36: 16859282 | H36: 0 | I36: 0 | J36: =G36+H36+I36 -> 16859282 | N36: =SUM(K36:M36) -> 0 | O36: =K36+G36 -> 16859282 | P36: =L36+H36 -> 0 | Q36: =M36+I36 -> 0 | R36: =SUM(O36:Q36) -> 16859282 | S36: =O36/C36*100 -> 66.33829 | T36: 0 | U36: 0 | V36: =R36/F36*100 -> 66.33829 | W36: =F36-R36 -> 8554822 | X36: =G36+K36 -> 16859282 | Y36: =H36+L36 -> 0 | Z36: =I36+M36 -> 0
A37: 5.1.01.01.11.0002 | B37: Belanja Iuran Jaminan Kematian PPPK | C37: 3600000 | D37: 0 | E37: 0 | F37: =C37+D37+E37 -> 3600000 | G37: 1891934 | H37: 0 | I37: 0 | J37: =G37+H37+I37 -> 1891934 | N37: =SUM(K37:M37) -> 0 | O37: =K37+G37 -> 1891934 | P37: =L37+H37 -> 0 | Q37: =M37+I37 -> 0 | R37: =SUM(O37:Q37) -> 1891934 | S37: =O37/C37*100 -> 52.553722 | T37: 0 | U37: 0 | V37: =R37/F37*100 -> 52.553722 | W37: =F37-R37 -> 1708066 | X37: =G37+K37 -> 1891934 | Y37: =H37+L37 -> 0 | Z37: =I37+M37 -> 0
A38: 5.1.01.02.01.0001 | B38: Tambahan Penghasilan berdasarkan Beban Kerja PNS | C38: 12899250000 | D38: 0 | E38: 0 | F38: =C38+D38+E38 -> 12899250000 | G38: 8034480000 | H38: 0 | I38: 0 | J38: =G38+H38+I38 -> 8034480000 | N38: =SUM(K38:M38) -> 0 | O38: =K38+G38 -> 8034480000 | P38: =L38+H38 -> 0 | Q38: =M38+I38 -> 0 | R38: =SUM(O38:Q38) -> 8034480000 | S38: =O38/C38*100 -> 62.286412 | T38: 0 | U38: 0 | V38: =R38/F38*100 -> 62.286412 | W38: =F38-R38 -> 4864770000 | X38: =G38+K38 -> 8034480000 | Y38: =H38+L38 -> 0 | Z38: =I38+M38 -> 0
A39: 5.1.01.02.01.0002 | B39: Tambahan Penghasilan berdasarkan Beban Kerja PPPK | C39: =469300000-8 -> 469299992 | D39: 0 | E39: 0 | F39: =C39+D39+E39 -> 469299992 | G39: 283092000 | H39: 0 | I39: 0 | J39: =G39+H39+I39 -> 283092000 | N39: =SUM(K39:M39) -> 0 | O39: =K39+G39 -> 283092000 | P39: =L39+H39 -> 0 | Q39: =M39+I39 -> 0 | R39: =SUM(O39:Q39) -> 283092000 | S39: =O39/C39*100 -> 60.322183 | T39: 0 | U39: 0 | V39: =R39/F39*100 -> 60.322183 | W39: =F39-R39 -> 186207992 | X39: =G39+K39 -> 283092000 | Y39: =H39+L39 -> 0 | Z39: =I39+M39 -> 0
A40: 5.1.01.02.05.0001 | B40: Tambahan Penghasilan berdasarkan Prestasi Kerja PNS | C40: =698490000-62490000 -> 636000000 | D40: 0 | E40: 0 | F40: =C40+D40+E40 -> 636000000 | G40: 238590000 | H40: 0 | I40: 0 | J40: =G40+H40+I40 -> 238590000 | N40: =SUM(K40:M40) -> 0 | O40: =K40+G40 -> 238590000 | P40: =L40+H40 -> 0 | Q40: =M40+I40 -> 0 | R40: =SUM(O40:Q40) -> 238590000 | S40: =O40/C40*100 -> 37.514151 | T40: 0 | U40: 0 | V40: =R40/F40*100 -> 37.514151 | W40: =F40-R40 -> 397410000 | X40: =G40+K40 -> 238590000 | Y40: =H40+L40 -> 0 | Z40: =I40+M40 -> 0
A41: 5.1.01.02.05.0002 | B41: Tambahan Penghasilan berdasarkan Prestasi Kerja PPPK | C41: 120960000 | D41: 0 | E41: 0 | F41: =C41+D41+E41 -> 120960000 | G41: 43740000 | H41: 0 | I41: 0 | J41: =G41+H41+I41 -> 43740000 | N41: =SUM(K41:M41) -> 0 | O41: =K41+G41 -> 43740000 | P41: =L41+H41 -> 0 | Q41: =M41+I41 -> 0 | R41: =SUM(O41:Q41) -> 43740000 | S41: =O41/C41*100 -> 36.160714 | T41: 0 | U41: 0 | V41: =R41/F41*100 -> 36.160714 | W41: =F41-R41 -> 77220000 | X41: =G41+K41 -> 43740000 | Y41: =H41+L41 -> 0 | Z41: =I41+M41 -> 0
A42: 3.27.01.1.02.02 | B42: Penyediaan Administrasi Pelaksanaan Tugas ASN | C42: =SUM(C43:C45) -> 484920000 | D42: =SUM(D43:D45) -> 0 | E42: =SUM(E43:E45) -> 0 | F42: =C42+D42+E42 -> 484920000 | G42: =SUM(G43:G45) -> 276080000 | H42: =SUM(H43:H45) -> 0 | I42: =SUM(I43:I45) -> 0 | J42: =G42+H42+I42 -> 276080000 | K42: =SUM(K43:K45) -> 0 | L42: =SUM(L43:L45) -> 0 | M42: =SUM(M43:M45) -> 0 | N42: =SUM(K42:M42) -> 0 | O42: =K42+G42 -> 276080000 | P42: =L42+H42 -> 0 | Q42: =M42+I42 -> 0 | R42: =SUM(O42:Q42) -> 276080000 | S42: =O42/C42*100 -> 56.933102 | T42: 0 | U42: 0 | V42: =R42/F42*100 -> 56.933102 | W42: =F42-R42 -> 208840000 | X42: =G42+K42 -> 276080000 | Y42: =H42+L42 -> 0 | Z42: =I42+M42 -> 0
...

Sheet Sheet1
