Workbook

Sheet Kendali Global
A1: PEMERINTAH PROVINSI KALIMANTAN TIMUR
A2: LAPORAN REALISASI ANGGARAN PER BIDANG
A3: ='Kendali Rekening'!A3:W3 -> PER 02 SEPTEMBER 2024
A7: KODE REKENING | B7: URAIAN | C7: ANGGARAN | G7: ANGGARAN | H7: ANGKAS BULAN SEPTEMBER 2024 | I7: ANGKAS RAPIM MEI 2024 | J7: REALISASI | N7: % | U7: DEVIASI ANGKAS | V7: DEVIASI ANGKAS | W7: SISA PAGU
C8: MURNI | D8: FCPF | E8: DBH | F8: TOTAL | J8: MURNI | K8: FCPF | L8: DBH | M8: TOTAL | N8: MURNI | O8: FCPF | P8: DBH | Q8: PAGU | R8: SIPD | S8: ANGKAS | T8: TOTAL
A9: 3-27.0-00.0-00.01 | B9: DINAS PERKEBUNAN | C9: ='Kendali Rekening'!C13 -> 85508596971 | D9: ='Kendali Rekening'!D13 -> 4989929273 | E9: ='Kendali Rekening'!E13 -> 616605050 | F9: ='Kendali Rekening'!F13 -> 91115131294 | G9: =F9 -> 91115131294 | H9: =H10+H11 -> 79959363373 | I9: =I10+I11 -> 33460981867 | J9: ='Kendali Rekening'!O13 -> 3.6767719e+10 | K9: ='Kendali Rekening'!P13 -> 2495545724 | L9: ='Kendali Rekening'!Q13 -> 127391350 | M9: ='Kendali Rekening'!R13 -> 3.9390656e+10 | N9: ='Kendali Rekening'!S13 -> 42.998857 | O9: ='Kendali Rekening'!T13 -> 50.011645 | P9: ='Kendali Rekening'!U13 -> 20.660121 | Q9: =M9/G9*100 -> 43.23174 | R9: =M9/H9*100 -> 49.263344 | S9: =M9/H9*100 -> 49.263344 | T9: ='Kendali Rekening'!V13 -> 43.23174 | U9: =H9-M9 -> 4.0568707e+10 | V9: =H9-M9 -> 4.0568707e+10 | W9: ='Kendali Rekening'!W13 -> 5.1724475e+10
A10: 5.1.01 | B10: Belanja Pegawai | C10: ='Kendali Rekening'!C14 -> 21301798694 | D10: ='Kendali Rekening'!D14 -> 0 | E10: ='Kendali Rekening'!E14 -> 0 | F10: ='Kendali Rekening'!F14 -> 21301798694 | G10: =F10 -> 21301798694 | H10: 16933749274 | I10: 9512802097 | J10: ='Kendali Rekening'!O14 -> 13325882855 | K10: ='Kendali Rekening'!P14 -> 0 | L10: ='Kendali Rekening'!Q14 -> 0 | M10: ='Kendali Rekening'!R14 -> 13325882855 | N10: ='Kendali Rekening'!S14 -> 62.557548 | O10: ='Kendali Rekening'!T14 -> 0 | P10: ='Kendali Rekening'!U14 -> 0 | Q10: =M10/G10*100 -> 62.557548 | R10: =M10/H10*100 -> 78.694226 | S10: =M10/H10*100 -> 78.694226 | T10: ='Kendali Rekening'!V14 -> 62.557548 | U10: =H10-M10 -> 3607866419 | V10: =H10-M10 -> 3607866419 | W10: ='Kendali Rekening'!W14 -> 7975915839
A11: 5.1 | B11: Belanja Operasi Dinas dan UPTD | C11: ='Kendali Rekening'!C46 -> 64206798277 | D11: ='Kendali Rekening'!D46 -> 4989929273 | E11: ='Kendali Rekening'!E46 -> 616605050 | F11: ='Kendali Rekening'!F46 -> 69813332600 | G11: =F11 -> 69813332600 | H11: =H12+H16+H17+H18+H19+H20+H21+H22 -> 63025614099 | I11: =I12+I16+I17+I18+I19+I20+I21+I22 -> 23948179770 | J11: ='Kendali Rekening'!O46 -> 2.3441836e+10 | K11: ='Kendali Rekening'!P46 -> 2495545724 | L11: ='Kendali Rekening'!Q46 -> 127391350 | M11: ='Kendali Rekening'!R46 -> 2.6064773e+10 | N11: ='Kendali Rekening'!S46 -> 36.509898 | O11: ='Kendali Rekening'!T46 -> 50.011645 | P11: ='Kendali Rekening'!U46 -> 20.660121 | Q11: =M11/G11*100 -> 37.334951 | R11: =M11/H11*100 -> 41.355842 | S11: =M11/H11*100 -> 41.355842 | T11: ='Kendali Rekening'!V46 -> 37.334951 | U11: =H11-M11 -> 3.6960841e+10 | V11: =H11-M11 -> 3.6960841e+10 | W11: ='Kendali Rekening'!W46 -> 4.3748559e+10
B12: SEKRETARIAT | C12: ='Kendali Rekening'!C48 -> 13555891270 | D12: ='Kendali Rekening'!D48 -> 556107800 | E12: ='Kendali Rekening'!E48 -> 0 | F12: ='Kendali Rekening'!F48 -> 14111999070 | G12: =F12 -> 14111999070 | H12: =SUM(H13:H15) -> 11396187185 | I12: =SUM(I13:I15) -> 8036143369 | J12: ='Kendali Rekening'!O48 -> 7853476100 | K12: ='Kendali Rekening'!P48 -> 43182330 | L12: ='Kendali Rekening'!Q48 -> 0 | M12: ='Kendali Rekening'!R48 -> 7896658430 | N12: ='Kendali Rekening'!S48 -> 57.934045 | O12: ='Kendali Rekening'!T48 -> 7.7651006 | P12: ='Kendali Rekening'!U48 -> 0 | Q12: =M12/G12*100 -> 55.95705 | R12: =M12/H12*100 -> 69.292109 | S12: =M12/H12*100 -> 69.292109 | T12: ='Kendali Rekening'!V48 -> 55.95705 | U12: =H12-M12 -> 3499528755 | V12: =H12-M12 -> 3499528755 | W12: ='Kendali Rekening'!W48 -> 6215340640
B13: SUB BAGIAN UMUM DAN KEPEGAWAIAN | C13: ='Kendali Rekening'!C49 -> 11636724073 | D13: ='Kendali Rekening'!D49 -> 260000000 | E13: ='Kendali Rekening'!E49 -> 0 | F13: ='Kendali Rekening'!F49 -> 11896724073 | G13: =F13 -> 11896724073 | H13: 9416615868 | I13: 6665759212 | J13: ='Kendali Rekening'!O49 -> 6592231845 | K13: ='Kendali Rekening'!P49 -> 12000000 | L13: ='Kendali Rekening'!Q49 -> 0 | M13: ='Kendali Rekening'!R49 -> 6604231845 | N13: ='Kendali Rekening'!S49 -> 56.650238 | O13: ='Kendali Rekening'!T49 -> 4.6153846 | P13: ='Kendali Rekening'!U49 -> 0 | Q13: =M13/G13*100 -> 55.513029 | R13: =M13/H13*100 -> 70.133814 | S13: =M13/H13*100 -> 70.133814 | T13: ='Kendali Rekening'!V49 -> 55.513029 | U13: =H13-M13 -> 2812384023 | V13: =H13-M13 -> 2812384023 | W13: ='Kendali Rekening'!W49 -> 5292492228
B14: SUB BAGIAN PERENCANAAN PROGRAM | C14: ='Kendali Rekening'!C185 -> 1724767197 | D14: ='Kendali Rekening'!D185 -> 296107800 | E14: ='Kendali Rekening'!E185 -> 0 | F14: ='Kendali Rekening'!F185 -> 2020874997 | G14: =F14 -> 2020874997 | H14: 1786121297 | I14: 1193734137 | J14: ='Kendali Rekening'!O185 -> 1156630305 | K14: ='Kendali Rekening'!P185 -> 31182330 | L14: ='Kendali Rekening'!Q185 -> 0 | M14: ='Kendali Rekening'!R185 -> 1187812635 | N14: ='Kendali Rekening'!S185 -> 67.060082 | O14: ='Kendali Rekening'!T185 -> 10.530736 | P14: ='Kendali Rekening'!U185 -> 0 | Q14: =M14/G14*100 -> 58.777145 | R14: =M14/H14*100 -> 66.50235 | S14: =M14/H14*100 -> 66.50235 | T14: ='Kendali Rekening'!V185 -> 58.777145 | U14: =H14-M14 -> 598308662 | V14: =H14-M14 -> 598308662 | W14: ='Kendali Rekening'!W185 -> 833062362
B15: SUB BAGIAN KEUANGAN DAN ASET | C15: ='Kendali Rekening'!C148 -> 194400000 | D15: ='Kendali Rekening'!D148 -> 0 | E15: ='Kendali Rekening'!E148 -> 0 | F15: ='Kendali Rekening'!F148 -> 194400000 | G15: =F15 -> 194400000 | H15: 193450020 | I15: 176650020 | J15: ='Kendali Rekening'!O148 -> 104613950 | K15: ='Kendali Rekening'!P148 -> 0 | L15: ='Kendali Rekening'!Q148 -> 0 | M15: ='Kendali Rekening'!R148 -> 104613950 | N15: ='Kendali Rekening'!S148 -> 53.81376 | O15: ='Kendali Rekening'!T148 -> 0 | P15: ='Kendali Rekening'!U148 -> 0 | Q15: =M15/G15*100 -> 53.81376 | R15: =M15/H15*100 -> 54.078025 | S15: =M15/H15*100 -> 54.078025 | T15: ='Kendali Rekening'!V148 -> 53.81376 | U15: =H15-M15 -> 88836070 | V15: =H15-M15 -> 88836070 | W15: ='Kendali Rekening'!W148 -> 89786050
B16: BIDANG PENGEMBANGAN KOMODITI | C16: ='Kendali Rekening'!C218 -> 21806682510 | D16: ='Kendali Rekening'!D218 -> 368452000 | E16: ='Kendali Rekening'!E218 -> 0 | F16: ='Kendali Rekening'!F218 -> 22175134510 | G16: =F16 -> 22175134510 | H16: 21812456066 | I16: 2181333056 | J16: ='Kendali Rekening'!O218 -> 1931892424 | K16: ='Kendali Rekening'!P218 -> 311786242 | L16: ='Kendali Rekening'!Q218 -> 0 | M16: ='Kendali Rekening'!R218 -> 2243678666 | N16: ='Kendali Rekening'!S218 -> 8.8591762 | O16: ='Kendali Rekening'!T218 -> 84.620586 | P16: ='Kendali Rekening'!U218 -> 0 | Q16: =M16/G16*100 -> 10.117993 | R16: =M16/H16*100 -> 10.286227 | S16: =M16/H16*100 -> 10.286227 | T16: ='Kendali Rekening'!V218 -> 10.117993 | U16: =H16-M16 -> 19568777400 | V16: =H16-M16 -> 19568777400 | W16: ='Kendali Rekening'!W218 -> 19931455844
B17: BIDANG PERKEBUNAN BERKELANJUTAN | C17: ='Kendali Rekening'!C270 -> 2761777077 | D17: ='Kendali Rekening'!D270 -> 2677899423 | E17: ='Kendali Rekening'!E270 -> 475845050 | F17: ='Kendali Rekening'!F270 -> 5915521550 | G17: =F17 -> 5915521550 | H17: 5515167840 | I17: 3830300830 | J17: ='Kendali Rekening'!O270 -> 1891350182 | K17: ='Kendali Rekening'!P270 -> 1632032022 | L17: ='Kendali Rekening'!Q270 -> 114791350 | M17: ='Kendali Rekening'!R270 -> 3638173554 | N17: ='Kendali Rekening'!S270 -> 68.483086 | O17: ='Kendali Rekening'!T270 -> 60.944485 | P17: ='Kendali Rekening'!U270 -> 24.123683 | Q17: =M17/G17*100 -> 61.50216 | R17: =M17/H17*100 -> 65.966688 | S17: =M17/H17*100 -> 65.966688 | T17: ='Kendali Rekening'!V270 -> 61.50216 | U17: =H17-M17 -> 1876994286 | V17: =H17-M17 -> 1876994286 | W17: ='Kendali Rekening'!W270 -> 2277347996
B18: BIDANG USAHA | C18: ='Kendali Rekening'!C312 -> 1218929441 | D18: ='Kendali Rekening'!D312 -> 290816000 | E18: ='Kendali Rekening'!E312 -> 140760000 | F18: ='Kendali Rekening'!F312 -> 1650505441 | G18: =F18 -> 1650505441 | H18: 1445669441 | I18: 984382000 | J18: ='Kendali Rekening'!O312 -> 1250133218 | K18: ='Kendali Rekening'!P312 -> 78869500 | L18: ='Kendali Rekening'!Q312 -> 12600000 | M18: ='Kendali Rekening'!R312 -> 1341602718 | N18: ='Kendali Rekening'!S312 -> 102.55993 | O18: ='Kendali Rekening'!T312 -> 27.120069 | P18: ='Kendali Rekening'!U312 -> 8.9514066 | Q18: =M18/G18*100 -> 81.284356 | R18: =M18/H18*100 -> 92.801486 | S18: =M18/H18*100 -> 92.801486 | T18: ='Kendali Rekening'!V312 -> 81.284356 | U18: =H18-M18 -> 104066723 | V18: =H18-M18 -> 104066723 | W18: ='Kendali Rekening'!W312 -> 308902723
B19: BIDANG PENGOLAHAN DAN PEMASARAN | C19: ='Kendali Rekening'!C334 -> 6922837685 | D19: ='Kendali Rekening'!D334 -> 496541600 | E19: ='Kendali Rekening'!E334 -> 0 | F19: ='Kendali Rekening'!F334 -> 7419379285 | G19: =F19 -> 7419379285 | H19: 5942408311 | I19: 2384296381 | J19: ='Kendali Rekening'!O334 -> 1945318676 | K19: ='Kendali Rekening'!P334 -> 72405970 | L19: ='Kendali Rekening'!Q334 -> 0 | M19: ='Kendali Rekening'!R334 -> 2017724646 | N19: ='Kendali Rekening'!S334 -> 28.100019 | O19: ='Kendali Rekening'!T334 -> 14.582055 | P19: ='Kendali Rekening'!U334 -> 0 | Q19: =M19/G19*100 -> 27.19533 | R19: =M19/H19*100 -> 33.954662 | S19: =M19/H19*100 -> 33.954662 | T19: ='Kendali Rekening'!V334 -> 27.19533 | U19: =H19-M19 -> 3924683665 | V19: =H19-M19 -> 3924683665 | W19: ='Kendali Rekening'!W334 -> 5401654639
B20: UPTD PBP (PENGAWASAN BENIH PERKEBUNAN) | C20: ='Kendali Rekening'!C388 -> 2802512814 | D20: ='Kendali Rekening'!D388 -> 0 | E20: ='Kendali Rekening'!E388 -> 0 | F20: ='Kendali Rekening'!F388 -> 2802512814 | G20: =F20 -> 2802512814 | H20: 2444436799 | I20: 1281768619 | J20: ='Kendali Rekening'!O388 -> 1695924671 | K20: ='Kendali Rekening'!P388 -> 0 | L20: ='Kendali Rekening'!Q388 -> 0 | M20: ='Kendali Rekening'!R388 -> 1695924671 | N20: ='Kendali Rekening'!S388 -> 60.514431 | O20: ='Kendali Rekening'!T388 -> 0 | P20: ='Kendali Rekening'!U388 -> 0 | Q20: =M20/G20*100 -> 60.514431 | R20: =M20/H20*100 -> 69.378954 | S20: =M20/H20*100 -> 69.378954 | T20: ='Kendali Rekening'!V388 -> 60.514431 | U20: =H20-M20 -> 748512128 | V20: =H20-M20 -> 748512128 | W20: ='Kendali Rekening'!W388 -> 1106588143
B21: UPTD P2TP (PENGEMBANGAN PERLINDUNGAN TANAMAN PERKEBUNAN) | C21: ='Kendali Rekening'!C480 -> 5194136970 | D21: ='Kendali Rekening'!D480 -> 600112450 | E21: ='Kendali Rekening'!E480 -> 0 | F21: ='Kendali Rekening'!F480 -> 5794249420 | G21: =F21 -> 5794249420 | H21: 5411280575 | I21: 1612407165 | J21: ='Kendali Rekening'!O480 -> 1911102198 | K21: ='Kendali Rekening'!P480 -> 357269660 | L21: ='Kendali Rekening'!Q480 -> 0 | M21: ='Kendali Rekening'!R480 -> 2268371858 | N21: ='Kendali Rekening'!S480 -> 36.79345 | O21: ='Kendali Rekening'!T480 -> 59.533786 | P21: ='Kendali Rekening'!U480 -> 0 | Q21: =M21/G21*100 -> 39.148675 | R21: =M21/H21*100 -> 41.919317 | S21: =M21/H21*100 -> 41.919317 | T21: ='Kendali Rekening'!V480 -> 39.148675 | U21: =H21-M21 -> 3142908717 | V21: =H21-M21 -> 3142908717 | W21: ='Kendali Rekening'!W480 -> 3525877562
B22: UPTD PBTP (PRODUSEN BENIH TANAMAN PERKEBUNAN) | C22: ='Kendali Rekening'!C570 -> 9944030510 | D22: ='Kendali Rekening'!D570 -> 0 | E22: ='Kendali Rekening'!E570 -> 0 | F22: ='Kendali Rekening'!F570 -> 9944030510 | G22: =F22 -> 9944030510 | H22: 9058007882 | I22: 3637548350 | J22: ='Kendali Rekening'!O570 -> 4.9626389e+09 | K22: ='Kendali Rekening'!P570 -> 0 | L22: ='Kendali Rekening'!Q570 -> 0 | M22: ='Kendali Rekening'!R570 -> 4.9626389e+09 | N22: ='Kendali Rekening'!S570 -> 49.905709 | O22: ='Kendali Rekening'!T570 -> 0 | P22: ='Kendali Rekening'!U570 -> 0 | Q22: =M22/G22*100 -> 49.905709 | R22: =M22/H22*100 -> 54.787311 | S22: =M22/H22*100 -> 54.787311 | T22: ='Kendali Rekening'!V570 -> 49.905709 | U22: =H22-M22 -> 4.095369e+09 | V22: =H22-M22 -> 4.095369e+09 | W22: ='Kendali Rekening'!W570 -> 4.9813916e+09
S24: 66% - 100%
S25: 36% - 65%
S26: 0% - 35%

Sheet Kendali Rekening
A1: PEMERINTAH PROVINSI KALIMANTAN TIMUR
A2: LAPORAN REALISASI ANGGARAN PER BIDANG
A3: PER 02 SEPTEMBER 2024
A6: Urusan Pemerintahan | B6: : Urusan Pilihan
A7: Bidang Pemerintahan | B7: : Pertanian
A8: Unit Organisasi | B8: : Dinas Perkebunan | C8: =C9-C13 -> 1207790 | D8: =D9-D13 -> -1207790 | E8: =E9-E13 -> 0 | F8: =F9-F13 -> 0 | G8: DPI BERMASALAH
C9: 85509804761 | D9: 4988721483 | E9: 616605050 | F9: =SUM(C9:E9) -> 91115131294 | H9: =G9-F9 -> -91115131294
A10: KODE REKENING | B10: URAIAN | C10: ANGGARAN | G10: REALISASI | S10: % | W10: SISA PAGU
C11: MURNI | D11: FCPF | E11: DBH | F11: TOTAL | G11: BULAN LALU | K11: BULAN INI | O11: JUMLAH
G12: MURNI | H12: FCPF | I12: DBH | J12: TOTAL | K12: MURNI | L12: FCPF | M12: DBH | N12: TOTAL | O12: MURNI | P12: FCPF | Q12: DBH | R12: TOTAL | S12: MURNI | T12: FCPF | U12: DBH | V12: TOTAL
A13: 3-27.0-00.0-00.01 | B13: DINAS PERKEBUNAN | C13: =C14+C46 -> 85508596971 | D13: =D14+D46 -> 4989929273 | E13: =E14+E46 -> 616605050 | F13: =C13+D13+E13 -> 91115131294 | G13: =G14+G46 -> 3.6767719e+10 | H13: =H14+H46 -> 2495545724 | I13: =I14+I46 -> 127391350 | J13: =G13+H13+I13 -> 3.9390656e+10 | K13: =K14+K46 -> 0 | L13: =L14+L46 -> 0 | M13: =M14+M46 -> 0 | N13: =SUM(K13:M13) -> 0 | O13: =K13+G13 -> 3.6767719e+10 | P13: =L13+H13 -> 2495545724 | Q13: =M13+I13 -> 127391350 | R13: =SUM(O13:Q13) -> 3.9390656e+10 | S13: =O13/C13*100 -> 42.998857 | T13: =P13/D13*100 -> 50.011645 | U13: =Q13/E13*100 -> 20.660121 | V13: =R13/F13*100 -> 43.23174 | W13: =F13-R13 -> 5.1724475e+10 | X13: =R13 -> 3.9390656e+10 | Y13: 13736756657
A14: 5.1.01 | B14: Belanja Pegawai | C14: =C17+C42 -> 21301798694 | D14: =D17+D42 -> 0 | E14: =E17+E42 -> 0 | F14: =C14+D14+E14 -> 21301798694 | G14: =G17+G42 -> 13325882855 | H14: =H17+H42 -> 0 | I14: =I17+I42 -> 0 | J14: =G14+H14+I14 -> 13325882855 | K14: =K17+K42 -> 0 | L14: =L17+L42 -> 0 | M14: =M17+M42 -> 0 | N14: =SUM(K14:M14) -> 0 | O14: =K14+G14 -> 13325882855 | P14: =L14+H14 -> 0 | Q14: =M14+I14 -> 0 | R14: =SUM(O14:Q14) -> 13325882855 | S14: =O14/C14*100 -> 62.557548 | T14: 0 | U14: 0 | V14: =R14/F14*100 -> 62.557548 | W14: =F14-R14 -> 7975915839 | X14: =X13-Y13 -> 2.56539e+10
A15: Program (3.27.01) | B15: PROGRAM PENUNJANG URUSAN PEMERINTAHAN DAERAH PROVINSI | C15: =C16 -> 21301798694 | D15: =D16 -> 0 | E15: =E16 -> 0 | F15: =C15+D15+E15 -> 21301798694 | G15: =G16 -> 13325882855 | H15: =H16 -> 0 | I15: =I16 -> 0 | J15: =G15+H15+I15 -> 13325882855 | K15: =K16 -> 0 | L15: =L16 -> 0 | M15: =M16 -> 0 | N15: =SUM(K15:M15) -> 0 | O15: =K15+G15 -> 13325882855 | P15: =L15+H15 -> 0 | Q15: =M15+I15 -> 0 | R15: =SUM(O15:Q15) -> 13325882855 | S15: =O15/C15*100 -> 62.557548 | T15: 0 | U15: 0 | V15: =R15/F15*100 -> 62.557548 | W15: =F15-R15 -> 7975915839
A16: Kegiatan (3.27.01.1.02) | B16: Administrasi Keuangan Perangkat Daerah | C16: =C17+C42 -> 21301798694 | D16: =D17+D42 -> 0 | E16: =E17+E42 -> 0 | F16: =C16+D16+E16 -> 21301798694 | G16: =G17+G42 -> 13325882855 | H16: =H17+H42 -> 0 | I16: =I17+I42 -> 0 | J16: =G16+H16+I16 -> 13325882855 | K16: =K17+K42 -> 0 | L16: =L17+L42 -> 0 | M16: =M17+M42 -> 0 | N16: =SUM(K16:M16) -> 0 | O16: =K16+G16 -> 13325882855 | P16: =L16+H16 -> 0 | Q16: =M16+I16 -> 0 | R16: =SUM(O16:Q16) -> 13325882855 | S16: =O16/C16*100 -> 62.557548 | T16: 0 | U16: 0 | V16: =R16/F16*100 -> 62.557548 | W16: =F16-R16 -> 7975915839
A17: 3.27.01.1.02.01 | B17: Penyediaan Gaji dan Tunjangan ASN | C17: =SUM(C18:C41) -> 20816878694 | D17: =SUM(D18:D41) -> 0 | E17: =SUM(E18:E41) -> 0 | F17: =C17+D17+E17 -> 20816878694 | G17: =SUM(G18:G41) -> 13049802855 | H17: =SUM(H18:H41) -> 0 | I17: =SUM(I18:I41) -> 0 | J17: =G17+H17+I17 -> 13049802855 | K17: =SUM(K18:K41) -> 0 | L17: =SUM(L18:L41) -> 0 | M17: =SUM(M18:M41) -> 0 | N17: =SUM(K17:M17) -> 0 | O17: =K17+G17 -> 13049802855 | P17: =L17+H17 -> 0 | Q17: =M17+I17 -> 0 | R17: =SUM(O17:Q17) -> 13049802855 | S17: =O17/C17*100 -> 62.688567 | T17: 0 | U17: 0 | V17: =R17/F17*100 -> 62.688567 | W17: =F17-R17 -> 7767075839
A18: 5.1.01.01.01.0001 | B18: Belanja Gaji Pokok PNS | C18: =4220976004-15000006 -> 4205975998 | D18: 0 | E18: 0 | F18: =C18+D18+E18 -> 4205975998 | G18: 2982746813 | H18: 0 | I18: 0 | J18: =G18+H18+I18 -> 2982746813 | N18: =SUM(K18:M18) -> 0 | O18: =K18+G18 -> 2982746813 | P18: =L18+H18 -> 0 | Q18: =M18+I18 -> 0 | R18: =SUM(O18:Q18) -> 2982746813 | S18: =O18/C18*100 -> 70.916877 | T18: 0 | U18: 0 | V18: =R18/F18*100 -> 70.916877 | W18: =F18-R18 -> 1223229185 | X18: =G18+K18 -> 2982746813 | Y18: =H18+L18 -> 0 | Z18: =I18+M18 -> 0
A19: 5.1.01.01.01.0002 | B19: Belanja Gaji Pokok PPPK | C19: 554516200 | D19: 0 | E19: 0 | F19: =C19+D19+E19 -> 554516200 | G19: 376483254 | H19: 0 | I19: 0 | J19: =G19+H19+I19 -> 376483254 | N19: =SUM(K19:M19) -> 0 | O19: =K19+G19 -> 376483254 | P19: =L19+H19 -> 0 | Q19: =M19+I19 -> 0 | R19: =SUM(O19:Q19) -> 376483254 | S19: =O19/C19*100 -> 67.894005 | T19: 0 | U19: 0 | V19: =R19/F19*100 -> 67.894005 | W19: =F19-R19 -> 178032946 | X19: =G19+K19 -> 376483254 | Y19: =H19+L19 -> 0 | Z19: =I19+M19 -> 0
A20: 5.1.01.01.02.0001 | B20: Belanja Tunjangan Keluarga PNS | C20: =389794006+8000006 -> 397794012 | D20: 0 | E20: 0 | F20: =C20+D20+E20 -> 397794012 | G20: 284256060 | H20: 0 | I20: 0 | J20: =G20+H20+I20 -> 284256060 | N20: =SUM(K20:M20) -> 0 | O20: =K20+G20 -> 284256060 | P20: =L20+H20 -> 0 | Q20: =M20+I20 -> 0 | R20: =SUM(O20:Q20) -> 284256060 | S20: =O20/C20*100 -> 71.458104 | T20: 0 | U20: 0 | V20: =R20/F20*100 -> 71.458104 | W20: =F20-R20 -> 113537952 | X20: =G20+K20 -> 284256060 | Y20: =H20+L20 -> 0 | Z20: =I20+M20 -> 0
A21: 5.1.01.01.02.0002 | B21: Belanja Tunjangan Keluarga PPPK | C21: 75600000 | D21: 0 | E21: 0 | F21: =C21+D21+E21 -> 75600000 | G21: 42956040 | H21: 0 | I21: 0 | J21: =G21+H21+I21 -> 42956040 | N21: =SUM(K21:M21) -> 0 | O21: =K21+G21 -> 42956040 | P21: =L21+H21 -> 0 | Q21: =M21+I21 -> 0 | R21: =SUM(O21:Q21) -> 42956040 | S21: =O21/C21*100 -> 56.820159 | T21: 0 | U21: 0 | V21: =R21/F21*100 -> 56.820159 | W21: =F21-R21 -> 32643960 | X21: =G21+K21 -> 42956040 | Y21: =H21+L21 -> 0 | Z21: =I21+M21 -> 0
A22: 5.1.01.01.03.0001 | B22: Belanja Tunjangan Jabatan PNS | C22: 349710004 | D22: 0 | E22: 0 | F22: =C22+D22+E22 -> 349710004 | G22: 222700000 | H22: 0 | I22: 0 | J22: =G22+H22+I22 -> 222700000 | N22: =SUM(K22:M22) -> 0 | O22: =K22+G22 -> 222700000 | P22: =L22+H22 -> 0 | Q22: =M22+I22 -> 0 | R22: =SUM(O22:Q22) -> 222700000 | S22: =O22/C22*100 -> 63.681335 | T22: 0 | U22: 0 | V22: =R22/F22*100 -> 63.681335 | W22: =F22-R22 -> 127010004 | X22: =G22+K22 -> 222700000 | Y22: =H22+L22 -> 0 | Z22: =I22+M22 -> 0
A23: 5.1.01.01.04.0001 | B23: Belanja Tunjangan Fungsional PNS | C23: =59840004-3000004 -> 56840000 | D23: 0 | E23: 0 | F23: =C23+D23+E23 -> 56840000 | G23: 31240000 | H23: 0 | I23: 0 | J23: =G23+H23+I23 -> 31240000 | N23: =SUM(K23:M23) -> 0 | O23: =K23+G23 -> 31240000 | P23: =L23+H23 -> 0 | Q23: =M23+I23 -> 0 | R23: =SUM(O23:Q23) -> 31240000 | S23: =O23/C23*100 -> 54.961295 | T23: 0 | U23: 0 | V23: =R23/F23*100 -> 54.961295 | W23: =F23-R23 -> 25600000 | X23: =G23+K23 -> 31240000 | Y23: =H23+L23 -> 0 | Z23: =I23+M23 -> 0
A24: 5.1.01.01.04.0002 | B24: Belanja Tunjangan Fungsional PPPK | C24: =95760000-1999998 -> 93760002 | D24: 0 | E24: 0 | F24: =C24+D24+E24 -> 93760002 | G24: 58480000 | H24: 0 | I24: 0 | J24: =G24+H24+I24 -> 58480000 | N24: =SUM(K24:M24) -> 0 | O24: =K24+G24 -> 58480000 | P24: =L24+H24 -> 0 | Q24: =M24+I24 -> 0 | R24: =SUM(O24:Q24) -> 58480000 | S24: =O24/C24*100 -> 62.372012 | T24: 0 | U24: 0 | V24: =R24/F24*100 -> 62.372012 | W24: =F24-R24 -> 35280002 | X24: =G24+K24 -> 58480000 | Y24: =H24+L24 -> 0 | Z24: =I24+M24 -> 0
A25: 5.1.01.01.05.0001 | B25: Belanja Tunjangan Fungsional Umum PNS | C25: 103033000 | D25: 0 | E25: 0 | F25: =C25+D25+E25 -> 103033000 | G25: 68315000 | H25: 0 | I25: 0 | J25: =G25+H25+I25 -> 68315000 | N25: =SUM(K25:M25) -> 0 | O25: =K25+G25 -> 68315000 | P25: =L25+H25 -> 0 | Q25: =M25+I25 -> 0 | R25: =SUM(O25:Q25) -> 68315000 | S25: =O25/C25*100 -> 66.304 | T25: 0 | U25: 0 | V25: =R25/F25*100 -> 66.304 | W25: =F25-R25 -> 34718000 | X25: =G25+K25 -> 68315000 | Y25: =H25+L25 -> 0 | Z25: =I25+M25 -> 0
A26: 5.1.01.01.06.0001 | B26: Belanja Tunjangan Beras PNS | C26: 227591000 | D26: 0 | E26: 0 | F26: =C26+D26+E26 -> 227591000 | G26: 150850860 | H26: 0 | I26: 0 | J26: =G26+H26+I26 -> 150850860 | N26: =SUM(K26:M26) -> 0 | O26: =K26+G26 -> 150850860 | P26: =L26+H26 -> 0 | Q26: =M26+I26 -> 0 | R26: =SUM(O26:Q26) -> 150850860 | S26: =O26/C26*100 -> 66.281558 | T26: 0 | U26: 0 | V26: =R26/F26*100 -> 66.281558 | W26: =F26-R26 -> 76740140 | X26: =G26+K26 -> 150850860 | Y26: =H26+L26 -> 0 | Z26: =I26+M26 -> 0
A27: 5.1.01.01.06.0001 | B27: Belanja Tunjangan Beras PPPK | C27: 53900000 | D27: 0 | E27: 0 | F27: =C27+D27+E27 -> 53900000 | G27: 26722980 | H27: 0 | I27: 0 | J27: =G27+H27+I27 -> 26722980 | N27: =SUM(K27:M27) -> 0 | O27: =K27+G27 -> 26722980 | P27: =L27+H27 -> 0 | Q27: =M27+I27 -> 0 | R27: =SUM(O27:Q27) -> 26722980 | S27: =O27/C27*100 -> 49.578813 | T27: 0 | U27: 0 | V27: =R27/F27*100 -> 49.578813 | W27: =F27-R27 -> 27177020 | X27: =G27+K27 -> 26722980 | Y27: =H27+L27 -> 0 | Z27: =I27+M27 -> 0
A28: 5.1.01.01.07.0001 | B28: Belanja Tunjangan PPh/Tunjangan Khusus PNS | C28: =24206000+24000004 -> 48206004 | D28: 0 | E28: 0 | F28: =C28+D28+E28 -> 48206004 | G28: 5962145 | H28: 0 | I28: 0 | J28: =G28+H28+I28 -> 5962145 | N28: =SUM(K28:M28) -> 0 | O28: =K28+G28 -> 5962145 | P28: =L28+H28 -> 0 | Q28: =M28+I28 -> 0 | R28: =SUM(O28:Q28) -> 5962145 | S28: =O28/C28*100 -> 12.368055 | T28: 0 | U28: 0 | V28: =R28/F28*100 -> 12.368055 | W28: =F28-R28 -> 42243859 | X28: =G28+K28 -> 5962145 | Y28: =H28+L28 -> 0 | Z28: =I28+M28 -> 0
A29: 5.1.01.01.07.0002 | B29: Belanja Tunjangan PPh/Tunjangan Khusus PPPK | C29: 3000004 | F29: =C29+D29+E29 -> 3000004 | G29: 0 | H29: 0 | I29: 0 | J29: =G29+H29+I29 -> 0 | N29: =SUM(K29:M29) -> 0 | O29: =K29+G29 -> 0 | P29: =L29+H29 -> 0 | Q29: =M29+I29 -> 0 | R29: =SUM(O29:Q29) -> 0 | S29: =O29/C29*100 -> 0 | T29: 0 | U29: 0 | V29: =R29/F29*100 -> 0 | W29: =F29-R29 -> 3000004 | X29: =G29+K29 -> 0 | Y29: =H29+L29 -> 0 | Z29: =I29+M29 -> 0
A30: 5.1.01.01.08.0001 | B30: Belanja Pembulatan Gaji PNS | C30: 70000 | D30: 0 | E30: 0 | F30: =C30+D30+E30 -> 70000 | G30: 36919 | H30: 0 | I30: 0 | J30: =G30+H30+I30 -> 36919 | N30: =SUM(K30:M30) -> 0 | O30: =K30+G30 -> 36919 | P30: =L30+H30 -> 0 | Q30: =M30+I30 -> 0 | R30: =SUM(O30:Q30) -> 36919 | S30: =O30/C30*100 -> 52.741429 | T30: 0 | U30: 0 | V30: =R30/F30*100 -> 52.741429 | W30: =F30-R30 -> 33081 | X30: =G30+K30 -> 36919 | Y30: =H30+L30 -> 0 | Z30: =I30+M30 -> 0
A31: 5.1.01.01.08.0002 | B31: Belanja Pembulatan Gaji PPPK | C31: =10000+2 -> 10002 | D31: 0 | E31: 0 | F31: =C31+D31+E31 -> 10002 | G31: 4737 | H31: 0 | I31: 0 | J31: =G31+H31+I31 -> 4737 | N31: =SUM(K31:M31) -> 0 | O31: =K31+G31 -> 4737 | P31: =L31+H31 -> 0 | Q31: =M31+I31 -> 0 | R31: =SUM(O31:Q31) -> 4737 | S31: =O31/C31*100 -> 47.360528 | T31: 0 | U31: 0 | V31: =R31/F31*100 -> 47.360528 | W31: =F31-R31 -> 5265 | X31: =G31+K31 -> 4737 | Y31: =H31+L31 -> 0 | Z31: =I31+M31 -> 0
A32: 5.1.01.01.09.0001 | B32: Belanja Iuran Jaminan Kesehatan PNS | C32: =391387008+47490000 -> 438877008 | D32: 0 | E32: 0 | F32: =C32+D32+E32 -> 438877008 | G32: 158152333 | H32: 0 | I32: 0 | J32: =G32+H32+I32 -> 158152333 | N32: =SUM(K32:M32) -> 0 | O32: =K32+G32 -> 158152333 | P32: =L32+H32 -> 0 | Q32: =M32+I32 -> 0 | R32: =SUM(O32:Q32) -> 158152333 | S32: =O32/C32*100 -> 36.035684 | T32: 0 | U32: 0 | V32: =R32/F32*100 -> 36.035684 | W32: =F32-R32 -> 280724675 | X32: =G32+K32 -> 158152333 | Y32: =H32+L32 -> 0 | Z32: =I32+M32 -> 0
A33: 5.1.01.01.09.0002 | B33: Belanja Iuran Jaminan Kesehatan PPPK | C33: 43800000 | D33: 0 | E33: 0 | F33: =C33+D33+E33 -> 43800000 | G33: 15992092 | H33: 0 | I33: 0 | J33: =G33+H33+I33 -> 15992092 | N33: =SUM(K33:M33) -> 0 | O33: =K33+G33 -> 15992092 | P33: =L33+H33 -> 0 | Q33: =M33+I33 -> 0 | R33: =SUM(O33:Q33) -> 15992092 | S33: =O33/C33*100 -> 36.511626 | T33: 0 | U33: 0 | V33: =R33/F33*100 -> 36.511626 | W33: =F33-R33 -> 27807908 | X33: =G33+K33 -> 15992092 | Y33: =H33+L33 -> 0 | Z33: =I33+M33 -> 0
A34: 5.1.01.01.10.0001 | B34: Belanja Iuran Jaminan Kecelakaan Kerja PNS | C34: 8471364 | D34: 0 | E34: 0 | F34: =C34+D34+E34 -> 8471364 | G34: 5619761 | H34: 0 | I34: 0 | J34: =G34+H34+I34 -> 5619761 | N34: =SUM(K34:M34) -> 0 | O34: =K34+G34 -> 5619761 | P34: =L34+H34 -> 0 | Q34: =M34+I34 -> 0 | R34: =SUM(O34:Q34) -> 5619761 | S34: =O34/C34*100 -> 66.338325 | T34: 0 | U34: 0 | V34: =R34/F34*100 -> 66.338325 | W34: =F34-R34 -> 2851603 | X34: =G34+K34 -> 5619761 | Y34: =H34+L34 -> 0 | Z34: =I34+M34 -> 0
A35: 5.1.01.01.10.0002 | B35: Belanja Iuran Jaminan Kecelakaan Kerja PPPK | C35: 1200000 | D35: 0 | E35: 0 | F35: =C35+D35+E35 -> 1200000 | G35: 630645 | H35: 0 | I35: 0 | J35: =G35+H35+I35 -> 630645 | N35: =SUM(K35:M35) -> 0 | O35: =K35+G35 -> 630645 | P35: =L35+H35 -> 0 | Q35: =M35+I35 -> 0 | R35: =SUM(O35:Q35) -> 630645 | S35: =O35/C35*100 -> 52.55375 | T35: 0 | U35: 0 | V35: =R35/F35*100 -> 52.55375 | W35: =F35-R35 -> 569355 | X35: =G35+K35 -> 630645 | Y35: =H35+L35 -> 0 | Z35: =I35+M35 -> 0
A36: 5.1.01.01.11.0001 | B36: Belanja Iuran Jaminan Kematian PNS | C36: 25414104 | D36: 0 | E36: 0 | F36: =C36+D36+E36 -> 25414104 | G36: 16859282 | H36: 0 | I36: 0 | J36: =G36+H36+I36 -> 16859282 | N36: =SUM(K36:M36) -> 0 | O36: =K36+G36 -> 16859282 | P36: =L36+H36 -> 0 | Q36: =M36+I36 -> 0 | R36: =SUM(O36:Q36) -> 16859282 | S36: =O36/C36*100 -> 66.33829 | T36: 0 | U36: 0 | V36: =R36/F36*100 -> 66.33829 | W36: =F36-R36 -> 8554822 | X36: =G36+K36 -> 16859282 | Y36: =H36+L36 -> 0 | Z36: =I36+M36 -> 0
A37: 5.1.01.01.11.0002 | B37: Belanja Iuran Jaminan Kematian PPPK | C37: 3600000 | D37: 0 | E37: 0 | F37: =C37+D37+E37 -> 3600000 | G37: 1891934 | H37: 0 | I37: 0 | J37: =G37+H37+I37 -> 1891934 | N37: =SUM(K37:M37) -> 0 | O37: =K37+G37 -> 1891934 | P37: =L37+H37 -> 0 | Q37: =M37+I37 -> 0 | R37: =SUM(O37:Q37) -> 1891934 | S37: =O37/C37*100 -> 52.553722 | T37: 0 | U37: 0 | V37: =R37/F37*100 -> 52.553722 | W37: =F37-R37 -> 1708066 | X37: =G37+K37 -> 1891934 | Y37: =H37+L37 -> 0 | Z37: =I37+M37 -> 0
A38: 5.1.01.02.01.0001 | B38: Tambahan Penghasilan berdasarkan Beban Kerja PNS | C38: 12899250000 | D38: 0 | E38: 0 | F38: =C38+D38+E38 -> 12899250000 | G38: 8034480000 | H38: 0 | I38: 0 | J38: =G38+H38+I38 -> 8034480000 | N38: =SUM(K38:M38) -> 0 | O38: =K38+G38 -> 8034480000 | P38: =L38+H38 -> 0 | Q38: =M38+I38 -> 0 | R38: =SUM(O38:Q38) -> 8034480000 | S38: =O38/C38*100 -> 62.286412 | T38: 0 | U38: 0 | V38: =R38/F38*100 -> 62.286412 | W38: =F38-R38 -> 4864770000 | X38: =G38+K38 -> 8034480000 | Y38: =H38+L38 -> 0 | Z38: =I38+M38 -> 0
A39: 5.1.01.02.01.0002 | B39: Tambahan Penghasilan berdasarkan Beban Kerja PPPK | C39: =469300000-8 -> 469299992 | D39: 0 | E39: 0 | F39: =C39+D39+E39 -> 469299992 | G39: 283092000 | H39: 0 | I39: 0 | J39: =G39+H39+I39 -> 283092000 | N39: =SUM(K39:M39) -> 0 | O39: =K39+G39 -> 283092000 | P39: =L39+H39 -> 0 | Q39: =M39+I39 -> 0 | R39: =SUM(O39:Q39) -> 283092000 | S39: =O39/C39*100 -> 60.322183 | T39: 0 | U39: 0 | V39: =R39/F39*100 -> 60.322183 | W39: =F39-R39 -> 186207992 | X39: =G39+K39 -> 283092000 | Y39: =H39+L39 -> 0 | Z39: =I39+M39 -> 0
A40: 5.1.01.02.05.0001 | B40: Tambahan Penghasilan berdasarkan Prestasi Kerja PNS | C40: =698490000-62490000 -> 636000000 | D40: 0 | E40: 0 | F40: =C40+D40+E40 -> 636000000 | G40: 238590000 | H40: 0 | I40: 0 | J40: =G40+H40+I40 -> 238590000 | N40: =SUM(K40:M40) -> 0 | O40: =K40+G40 -> 238590000 | P40: =L40+H40 -> 0 | Q40: =M40+I40 -> 0 | R40: =SUM(O40:Q40) -> 238590000 | S40: =O40/C40*100 -> 37.514151 | T40: 0 | U40: 0 | V40: =R40/F40*100 -> 37.514151 | W40: =F40-R40 -> 397410000 | X40: =G40+K40 -> 238590000 | Y40: =H40+L40 -> 0 | Z40: =I40+M40 -> 0
A41: 5.1.01.02.05.0002 | B41: Tambahan Penghasilan berdasarkan Prestasi Kerja PPPK | C41: 120960000 | D41: 0 | E41: 0 | F41: =C41+D41+E41 -> 120960000 | G41: 43740000 | H41: 0 | I41: 0 | J41: =G41+H41+I41 -> 43740000 | N41: =SUM(K41:M41) -> 0 | O41: =K41+G41 -> 43740000 | P41: =L41+H41 -> 0 | Q41: =M41+I41 -> 0 | R41: =SUM(O41:Q41) -> 43740000 | S41: =O41/C41*100 -> 36.160714 | T41: 0 | U41: 0 | V41: =R41/F41*100 -> 36.160714 | W41: =F41-R41 -> 77220000 | X41: =G41+K41 -> 43740000 | Y41: =H41+L41 -> 0 | Z41: =I41+M41 -> 0
A42: 3.27.01.1.02.02 | B42: Penyediaan Administrasi Pelaksanaan Tugas ASN | C42: =SUM(C43:C45) -> 484920000 | D42: =SUM(D43:D45) -> 0 | E42: =SUM(E43:E45) -> 0 | F42: =C42+D42+E42 -> 484920000 | G42: =SUM(G43:G45) -> 276080000 | H42: =SUM(H43:H45) -> 0 | I42: =SUM(I43:I45) -> 0 | J42: =G42+H42+I42 -> 276080000 | K42: =SUM(K43:K45) -> 0 | L42: =SUM(L43:L45) -> 0 | M42: =SUM(M43:M45) -> 0 | N42: =SUM(K42:M42) -> 0 | O42: =K42+G42 -> 276080000 | P42: =L42+H42 -> 0 | Q42: =M42+I42 -> 0 | R42: =SUM(O42:Q42) -> 276080000 | S42: =O42/C42*100 -> 56.933102 | T42: 0 | U42: 0 | V42: =R42/F42*100 -> 56.933102 | W42: =F42-R42 -> 208840000 | X42: =G42+K42 -> 276080000 | Y42: =H42+L42 -> 0 | Z42: =I42+M42 -> 0
A43: 5.1.01.03.07.0001 | B43: Belanja Honorarium Penanggungjawaban Pengelola Keuangan | C43: 420120000 | D43: 0 | E43: 0 | F43: =C43+D43+E43 -> 420120000 | G43: 238320000 | H43: 0 | I43: 0 | J43: =G43+H43+I43 -> 238320000 | N43: =SUM(K43:M43) -> 0 | O43: =K43+G43 -> 238320000 | P43: =L43+H43 -> 0 | Q43: =M43+I43 -> 0 | R43: =SUM(O43:Q43) -> 238320000 | S43: =O43/C43*100 -> 56.72665 | T43: 0 | U43: 0 | V43: =R43/F43*100 -> 56.72665 | W43: =F43-R43 -> 181800000 | X43: =G43+K43 -> 238320000 | Y43: =H43+L43 -> 0 | Z43: =I43+M43 -> 0
A44: 5.1.01.03.07.0002 | B44: Belanja Honorarium Pengadaan Barang/Jasa | C44: 48960000 | D44: 0 | E44: 0 | F44: =C44+D44+E44 -> 48960000 | G44: 27200000 | H44: 0 | I44: 0 | J44: =G44+H44+I44 -> 27200000 | N44: =SUM(K44:M44) -> 0 | O44: =K44+G44 -> 27200000 | P44: =L44+H44 -> 0 | Q44: =M44+I44 -> 0 | R44: =SUM(O44:Q44) -> 27200000 | S44: =O44/C44*100 -> 55.555556 | T44: 0 | U44: 0 | V44: =R44/F44*100 -> 55.555556 | W44: =F44-R44 -> 21760000 | X44: =G44+K44 -> 27200000 | Y44: =H44+L44 -> 0 | Z44: =I44+M44 -> 0
A45: 5.1.01.03.08.0002 | B45: Belanja Jasa Pengelolaan BMD yang Tidak Menghasilkan Pendapatan | C45: 15840000 | D45: 0 | E45: 0 | F45: =C45+D45+E45 -> 15840000 | G45: 10560000 | H45: 0 | I45: 0 | J45: =G45+H45+I45 -> 10560000 | N45: =SUM(K45:M45) -> 0 | O45: =K45+G45 -> 10560000 | P45: =L45+H45 -> 0 | Q45: =M45+I45 -> 0 | R45: =SUM(O45:Q45) -> 10560000 | S45: =O45/C45*100 -> 66.666667 | T45: 0 | U45: 0 | V45: =R45/F45*100 -> 66.666667 | W45: =F45-R45 -> 5280000 | X45: =G45+K45 -> 10560000 | Y45: =H45+L45 -> 0 | Z45: =I45+M45 -> 0
A46: 5.1 | B46: Belanja Operasi Dinas dan UPTD | C46: =C47+C388+C480+C570 -> 64206798277 | D46: =D47+D388+D480+D570 -> 4989929273 | E46: =E47+E388+E480+E570 -> 616605050 | F46: =C46+D46+E46 -> 69813332600 | G46: =G47+G388+G480+G570 -> 2.3441836e+10 | H46: =H47+H388+H480+H570 -> 2495545724 | I46: =I47+I388+I480+I570 -> 127391350 | J46: =G46+H46+I46 -> 2.6064773e+10 | K46: =K47+K388+K480+K570 -> 0 | L46: =L47+L388+L480+L570 -> 0 | M46: =M47+M388+M480+M570 -> 0 | N46: =SUM(K46:M46) -> 0 | O46: =K46+G46 -> 2.3441836e+10 | P46: =L46+H46 -> 2495545724 | Q46: =M46+I46 -> 127391350 | R46: =SUM(O46:Q46) -> 2.6064773e+10 | S46: =O46/C46*100 -> 36.509898 | T46: =P46/D46*100 -> 50.011645 | U46: =Q46/E46*100 -> 20.660121 | V46: =R46/F46*100 -> 37.334951 | W46: =F46-R46 -> 4.3748559e+10 | X46: =G46+K46 -> 2.3441836e+10 | Y46: =H46+L46 -> 2495545724 | Z46: =I46+M46 -> 127391350
A47: 5.1.02 | B47: Belanja Operasi Dinas | C47: =C48+C218+C270+C312+C334 -> 46266117983 | D47: =D48+D218+D270+D312+D334 -> 4389816823 | E47: =E48+E218+E270+E312+E334 -> 616605050 | F47: =C47+D47+E47 -> 51272539856 | G47: =G48+G218+G270+G312+G334 -> 14872170600 | H47: =H48+H218+H270+H312+H334 -> 2138276064 | I47: =I48+I218+I270+I312+I334 -> 127391350 | J47: =G47+H47+I47 -> 17137838014 | K47: =K48+K218+K270+K312+K334 -> 0 | L47: =L48+L218+L270+L312+L334 -> 0 | M47: =M48+M218+M270+M312+M334 -> 0 | N47: =SUM(K47:M47) -> 0 | O47: =K47+G47 -> 14872170600 | P47: =L47+H47 -> 2138276064 | Q47: =M47+I47 -> 127391350 | R47: =SUM(O47:Q47) -> 17137838014 | S47: =O47/C47*100 -> 32.144842 | T47: =P47/D47*100 -> 48.709915 | U47: =Q47/E47*100 -> 20.660121 | V47: =R47/F47*100 -> 33.424984 | W47: =F47-R47 -> 34134701842 | X47: =G47+K47 -> 14872170600 | Y47: =H47+L47 -> 2138276064 | Z47: =I47+M47 -> 127391350
B48: SEKRETARIAT | C48: =C49+C185+C148 -> 13555891270 | D48: =D49+D185 -> 556107800 | E48: =E49+E185 -> 0 | F48: =C48+D48+E48 -> 14111999070 | G48: =G49+G185+G148 -> 7853476100 | H48: =H49+H185+H148 -> 43182330 | I48: =I49+I185+I148 -> 0 | J48: =G48+H48+I48 -> 7896658430 | K48: =K49+K185+K148 -> 0 | L48: =L49+L185+L148 -> 0 | M48: =M49+M185+M148 -> 0 | N48: =SUM(K48:M48) -> 0 | O48: =K48+G48 -> 7853476100 | P48: =L48+H48 -> 43182330 | Q48: =M48+I48 -> 0 | R48: =SUM(O48:Q48) -> 7896658430 | S48: =O48/C48*100 -> 57.934045 | T48: =P48/D48*100 -> 7.7651006 | U48: 0 | V48: =R48/F48*100 -> 55.95705 | W48: =F48-R48 -> 6215340640 | X48: =G48+K48 -> 7853476100 | Y48: =H48+L48 -> 43182330 | Z48: =I48+M48 -> 0
B49: SUB BAGIAN UMUM DAN KEPEGAWAIAN | C49: =C50 -> 11636724073 | D49: =D50 -> 260000000 | E49: =E50 -> 0 | F49: =C49+D49+E49 -> 11896724073 | G49: =G50 -> 6592231845 | H49: =H50 -> 12000000 | I49: =I50 -> 0 | J49: =G49+H49+I49 -> 6604231845 | K49: =K50 -> 0 | L49: =L50 -> 0 | M49: =M50 -> 0 | N49: =SUM(K49:M49) -> 0 | O49: =K49+G49 -> 6592231845 | P49: =L49+H49 -> 12000000 | Q49: =M49+I49 -> 0 | R49: =SUM(O49:Q49) -> 6604231845 | S49: =O49/C49*100 -> 56.650238 | T49: =P49/D49*100 -> 4.6153846 | U49: 0 | V49: =R49/F49*100 -> 55.513029 | W49: =F49-R49 -> 5292492228 | X49: =G49+K49 -> 6592231845 | Y49: =H49+L49 -> 12000000 | Z49: =I49+M49 -> 0
A50: Program (3.27.01) | B50: PROGRAM PENUNJANG URUSAN PEMERINTAHAN DAERAH PROVINSI | C50: =C51+C65+C98+C114+C136 -> 11636724073 | D50: =D51+D65+D98+D114+D136 -> 260000000 | E50: =E51+E65+E98+E114+E136 -> 0 | F50: =C50+D50+E50 -> 11896724073 | G50: =G51+G65+G98+G114+G136 -> 6592231845 | H50: =H51+H65+H98+H114+H136 -> 12000000 | I50: =I51+I65+I98+I114+I136 -> 0 | J50: =G50+H50+I50 -> 6604231845 | K50: =K51+K65+K98+K114+K136 -> 0 | L50: =L51+L65+L98+L114+L136 -> 0 | M50: =M51+M65+M98+M114+M136 -> 0 | N50: =SUM(K50:M50) -> 0 | O50: =K50+G50 -> 6592231845 | P50: =L50+H50 -> 12000000 | Q50: =M50+I50 -> 0 | R50: =SUM(O50:Q50) -> 6604231845 | S50: =O50/C50*100 -> 56.650238 | T50: =P50/D50*100 -> 4.6153846 | U50: 0 | V50: =R50/F50*100 -> 55.513029 | W50: =F50-R50 -> 5292492228 | X50: =G50+K50 -> 6592231845 | Y50: =H50+L50 -> 12000000 | Z50: =I50+M50 -> 0
A51: Kegiatan (3.27.01.1.05) | B51: Administrasi Kepegawaian Perangkat Daerah | C51: =C52+C62+C54+C58 -> 357545200 | D51: =D52+D62 -> 260000000 | E51: =E52+E62 -> 0 | F51: =C51+D51+E51 -> 617545200 | G51: =G52+G54+G58+G62 -> 277330000 | H51: =H52+H54+H58+H62 -> 12000000 | I51: =I52+I54+I58+I62 -> 0 | J51: =G51+H51+I51 -> 289330000 | K51: =K52+K54+K58+K62 -> 0 | L51: =L52+L54+L58+L62 -> 0 | M51: =M52+M54+M58+M62 -> 0 | N51: =SUM(K51:M51) -> 0 | O51: =K51+G51 -> 277330000 | P51: =L51+H51 -> 12000000 | Q51: =M51+I51 -> 0 | R51: =SUM(O51:Q51) -> 289330000 | S51: =O51/C51*100 -> 77.565018 | T51: =P51/D51*100 -> 4.6153846 | U51: 0 | V51: =R51/F51*100 -> 46.851631 | W51: =F51-R51 -> 328215200 | X51: =G51+K51 -> 277330000 | Y51: =H51+L51 -> 12000000 | Z51: =I51+M51 -> 0
A52: 3.27.01.1.05.02 | B52: Pengadaan Pakaian Dinas Beserta Atribut Kelengkapannya | C52: =SUM(C53:C53) -> 129648000 | D52: =SUM(D53:D53) -> 0 | E52: =SUM(E53:E53) -> 0 | F52: =C52+D52+E52 -> 129648000 | G52: =SUM(G53:G53) -> 124080000 | H52: =SUM(H53:H53) -> 0 | I52: =SUM(I53:I53) -> 0 | J52: =G52+H52+I52 -> 124080000 | K52: =SUM(K53:K53) -> 0 | L52: =SUM(L53:L53) -> 0 | M52: =SUM(M53:M53) -> 0 | N52: =SUM(K52:M52) -> 0 | O52: =K52+G52 -> 124080000 | P52: =L52+H52 -> 0 | Q52: =M52+I52 -> 0 | R52: =SUM(O52:Q52) -> 124080000 | S52: =O52/C52*100 -> 95.705294 | T52: 0 | U52: 0 | V52: =R52/F52*100 -> 95.705294 | W52: =F52-R52 -> 5568000 | X52: =G52+K52 -> 124080000 | Y52: =H52+L52 -> 0 | Z52: =I52+M52 -> 0
A53: 5.1.02.01.01.0075 | B53: Belanja Pakaian Batik Tradisional | C53: 129648000 | D53: 0 | E53: 0 | F53: =C53+D53+E53 -> 129648000 | G53: 124080000 | H53: 0 | I53: 0 | J53: =G53+H53+I53 -> 124080000 | N53: =SUM(K53:M53) -> 0 | O53: =K53+G53 -> 124080000 | P53: =L53+H53 -> 0 | Q53: =M53+I53 -> 0 | R53: =SUM(O53:Q53) -> 124080000 | S53: =O53/C53*100 -> 95.705294 | T53: 0 | U53: 0 | V53: =R53/F53*100 -> 95.705294 | W53: =F53-R53 -> 5568000 | X53: =G53+K53 -> 124080000 | Y53: =H53+L53 -> 0 | Z53: =I53+M53 -> 0
A54: 3.27.01.1.05.03 | B54: Pendataan dan Pengolahan Administrasi Kepegawaian | C54: =SUM(C55:C57) -> 34898000 | D54: =SUM(D55:D57) -> 0 | E54: =SUM(E55:E57) -> 0 | F54: =C54+D54+E54 -> 34898000 | G54: =SUM(G55:G57) -> 0 | H54: =SUM(H55:H57) -> 0 | I54: =SUM(I55:I57) -> 0 | J54: =G54+H54+I54 -> 0 | K54: =SUM(K55:K57) -> 0 | L54: =SUM(L55:L57) -> 0 | M54: =SUM(M55:M57) -> 0 | N54: =SUM(K54:M54) -> 0 | O54: =K54+G54 -> 0 | P54: =L54+H54 -> 0 | Q54: =M54+I54 -> 0 | R54: =SUM(O54:Q54) -> 0 | S54: =O54/C54*100 -> 0 | T54: 0 | U54: 0 | V54: =R54/F54*100 -> 0 | W54: =F54-R54 -> 34898000 | X54: =G54+K54 -> 0 | Y54: =H54+L54 -> 0 | Z54: =I54+M54 -> 0
A55: 5.1.02.01.01.0052 | B55: Belanja Makanan dan Minuman Rapat | C55: 21098000 | D55: 0 | E55: 0 | F55: =C55+D55+E55 -> 21098000 | G55: 0 | H55: 0 | I55: 0 | J55: =G55+H55+I55 -> 0 | N55: =SUM(K55:M55) -> 0 | O55: =K55+G55 -> 0 | P55: =L55+H55 -> 0 | Q55: =M55+I55 -> 0 | R55: =SUM(O55:Q55) -> 0 | S55: =O55/C55*100 -> 0 | T55: 0 | U55: 0 | V55: =R55/F55*100 -> 0 | W55: =F55-R55 -> 21098000 | X55: =G55+K55 -> 0 | Y55: =H55+L55 -> 0 | Z55: =I55+M55 -> 0
A56: 5.1.02.02.01.0003 | B56: Honorarium Narasumber atau Pembahas, Moderator, Pembawa Acara, dan Panitia | C56: 5400000 | D56: 0 | E56: 0 | F56: =C56+D56+E56 -> 5400000 | G56: 0 | H56: 0 | I56: 0 | J56: =G56+H56+I56 -> 0 | N56: =SUM(K56:M56) -> 0 | O56: =K56+G56 -> 0 | P56: =L56+H56 -> 0 | Q56: =M56+I56 -> 0 | R56: =SUM(O56:Q56) -> 0 | S56: =O56/C56*100 -> 0 | T56: 0 | U56: 0 | V56: =R56/F56*100 -> 0 | W56: =F56-R56 -> 5400000 | X56: =G56+K56 -> 0 | Y56: =H56+L56 -> 0 | Z56: =I56+M56 -> 0
A57: 5.1.02.04.01.0001 | B57: Belanja Perjalanan Dinas Biasa | C57: 8400000 | D57: 0 | E57: 0 | F57: =C57+D57+E57 -> 8400000 | G57: 0 | H57: 0 | I57: 0 | J57: =G57+H57+I57 -> 0 | N57: =SUM(K57:M57) -> 0 | O57: =K57+G57 -> 0 | P57: =L57+H57 -> 0 | Q57: =M57+I57 -> 0 | R57: =SUM(O57:Q57) -> 0 | S57: =O57/C57*100 -> 0 | T57: 0 | U57: 0 | V57: =R57/F57*100 -> 0 | W57: =F57-R57 -> 8400000 | X57: =G57+K57 -> 0 | Y57: =H57+L57 -> 0 | Z57: =I57+M57 -> 0
A58: 3.27.01.1.05.05 | B58: Monitoring, Evaluasi, dan Penilaian Kinerja Pegawai | C58: =SUM(C59:C61) -> 24999200 | D58: =SUM(D59:D61) -> 0 | E58: =SUM(E59:E61) -> 0 | F58: =C58+D58+E58 -> 24999200 | G58: =SUM(G59:G61) -> 0 | H58: =SUM(H59:H61) -> 0 | I58: =SUM(I59:I61) -> 0 | J58: =G58+H58+I58 -> 0 | K58: =SUM(K59:K61) -> 0 | L58: =SUM(L59:L61) -> 0 | M58: =SUM(M59:M61) -> 0 | N58: =SUM(K58:M58) -> 0 | O58: =K58+G58 -> 0 | P58: =L58+H58 -> 0 | Q58: =M58+I58 -> 0 | R58: =SUM(O58:Q58) -> 0 | S58: =O58/C58*100 -> 0 | T58: 0 | U58: 0 | V58: =R58/F58*100 -> 0 | W58: =F58-R58 -> 24999200 | X58: =G58+K58 -> 0 | Y58: =H58+L58 -> 0 | Z58: =I58+M58 -> 0
A59: 5.1.02.01.01.0024 | B59: Belanja Alat/Bahan untuk Kegiatan Kantor-Alat Tulis Kantor | C59: 2843200 | D59: 0 | E59: 0 | F59: =C59+D59+E59 -> 2843200 | G59: 0 | H59: 0 | I59: 0 | J59: =G59+H59+I59 -> 0 | N59: =SUM(K59:M59) -> 0 | O59: =K59+G59 -> 0 | P59: =L59+H59 -> 0 | Q59: =M59+I59 -> 0 | R59: =SUM(O59:Q59) -> 0 | S59: =O59/C59*100 -> 0 | T59: 0 | U59: 0 | V59: =R59/F59*100 -> 0 | W59: =F59-R59 -> 2843200 | X59: =G59+K59 -> 0 | Y59: =H59+L59 -> 0 | Z59: =I59+M59 -> 0
A60: 5.1.02.01.01.0035 | B60: Belanja Alat/Bahan untuk Kegiatan Kantor- Suvenir/Cendera Mata | C60: 16480000 | D60: 0 | E60: 0 | F60: =C60+D60+E60 -> 16480000 | G60: 0 | H60: 0 | I60: 0 | J60: =G60+H60+I60 -> 0 | N60: =SUM(K60:M60) -> 0 | O60: =K60+G60 -> 0 | P60: =L60+H60 -> 0 | Q60: =M60+I60 -> 0 | R60: =SUM(O60:Q60) -> 0 | S60: =O60/C60*100 -> 0 | T60: 0 | U60: 0 | V60: =R60/F60*100 -> 0 | W60: =F60-R60 -> 16480000 | X60: =G60+K60 -> 0 | Y60: =H60+L60 -> 0 | Z60: =I60+M60 -> 0
A61: 5.1.02.01.01.0052 | B61: Belanja Makanan dan Minuman Rapat | C61: 5676000 | D61: 0 | E61: 0 | F61: =C61+D61+E61 -> 5676000 | G61: 0 | H61: 0 | I61: 0 | J61: =G61+H61+I61 -> 0 | N61: =SUM(K61:M61) -> 0 | O61: =K61+G61 -> 0 | P61: =L61+H61 -> 0 | Q61: =M61+I61 -> 0 | R61: =SUM(O61:Q61) -> 0 | S61: =O61/C61*100 -> 0 | T61: 0 | U61: 0 | V61: =R61/F61*100 -> 0 | W61: =F61-R61 -> 5676000 | X61: =G61+K61 -> 0 | Y61: =H61+L61 -> 0 | Z61: =I61+M61 -> 0
A62: 3.27.01.1.05.09 | B62: Pendidikan dan Pelatihan Pegawai Berdasarkan Tugas dan Fungsi | C62: =SUM(C63:C64) -> 168000000 | D62: =SUM(D63:D64) -> 260000000 | E62: =SUM(E63:E64) -> 0 | F62: =C62+D62+E62 -> 428000000 | G62: =SUM(G63:G64) -> 153250000 | H62: =SUM(H63:H64) -> 12000000 | I62: =SUM(I63:I64) -> 0 | J62: =G62+H62+I62 -> 165250000 | K62: =SUM(K63:K64) -> 0 | L62: =SUM(L63:L64) -> 0 | M62: =SUM(M63:M64) -> 0 | N62: =SUM(K62:M62) -> 0 | O62: =K62+G62 -> 153250000 | P62: =L62+H62 -> 12000000 | Q62: =M62+I62 -> 0 | R62: =SUM(O62:Q62) -> 165250000 | S62: =O62/C62*100 -> 91.220238 | T62: =P62/D62*100 -> 4.6153846 | U62: 0 | V62: =R62/F62*100 -> 38.609813 | W62: =F62-R62 -> 262750000 | X62: =G62+K62 -> 153250000 | Y62: =H62+L62 -> 12000000 | Z62: =I62+M62 -> 0
A63: 5.1.02.02.12.0003 | B63: Belanja Bimbingan Teknis | C63: 132000000 | D63: =38000000+150000000 -> 188000000 | E63: 0 | F63: =C63+D63+E63 -> 320000000 | G63: 153250000 | H63: 12000000 | I63: 0 | J63: =G63+H63+I63 -> 165250000 | M63: 0 | N63: =SUM(K63:M63) -> 0 | O63: =K63+G63 -> 153250000 | P63: =L63+H63 -> 12000000 | Q63: =M63+I63 -> 0 | R63: =SUM(O63:Q63) -> 165250000 | S63: =O63/C63*100 -> 116.09848 | T63: =P63/D63*100 -> 6.3829787 | U63: 0 | V63: =R63/F63*100 -> 51.640625 | W63: =F63-R63 -> 154750000 | X63: =G63+K63 -> 153250000 | Y63: =H63+L63 -> 12000000 | Z63: =I63+M63 -> 0
A64: 5.1.02.04.01.0001 | B64: Belanja Perjalanan Dinas Biasa | C64: 36000000 | D64: 72000000 | E64: 0 | F64: =C64+D64+E64 -> 108000000 | G64: 0 | H64: 0 | I64: 0 | J64: =G64+H64+I64 -> 0 | L64: 0 | M64: 0 | N64: =SUM(K64:M64) -> 0 | O64: =K64+G64 -> 0 | P64: =L64+H64 -> 0 | Q64: =M64+I64 -> 0 | R64: =SUM(O64:Q64) -> 0 | S64: =O64/C64*100 -> 0 | T64: =P64/D64*100 -> 0 | U64: 0 | V64: =R64/F64*100 -> 0 | W64: =F64-R64 -> 108000000 | X64: =G64+K64 -> 0 | Y64: =H64+L64 -> 0 | Z64: =I64+M64 -> 0
A65: Kegiatan (3.27.01.1.06) | B65: Administrasi Umum Perangkat Daerah | C65: =C66+C68+C86+C88+C91+C93 -> 2826412917 | D65: =D66+D68+D86+D88+D91+D93 -> 0 | E65: =E66+E68+E86+E88+E91+E93 -> 0 | F65: =C65+D65+E65 -> 2826412917 | G65: =G66+G68+G86+G88+G91+G93 -> 1753011180 | H65: =H66+H68+H86+H88+H91+H93 -> 0 | I65: =I66+I68+I86+I88+I91+I93 -> 0 | J65: =G65+H65+I65 -> 1753011180 | K65: =K66+K68+K86+K88+K91+K93 -> 0 | L65: =L66+L68+L86+L88+L91+L93 -> 0 | M65: =M66+M68+M86+M88+M91+M93 -> 0 | N65: =SUM(K65:M65) -> 0 | O65: =K65+G65 -> 1753011180 | P65: =L65+H65 -> 0 | Q65: =M65+I65 -> 0 | R65: =SUM(O65:Q65) -> 1753011180 | S65: =O65/C65*100 -> 62.022473 | T65: 0 | U65: 0 | V65: =R65/F65*100 -> 62.022473 | W65: =F65-R65 -> 1073401737 | X65: =G65+K65 -> 1753011180 | Y65: =H65+L65 -> 0 | Z65: =I65+M65 -> 0
A66: 3.27.01.1.06.01 | B66: Penyediaan Komponen Instalasi Listrik/Penerangan Bangunan Kantor | C66: =C67 -> 49973200 | D66: =D67 -> 0 | E66: =E67 -> 0 | F66: =C66+D66+E66 -> 49973200 | G66: =G67 -> 22248840 | H66: =H67 -> 0 | I66: =I67 -> 0 | J66: =G66+H66+I66 -> 22248840 | K66: =K67 -> 0 | L66: =L67 -> 0 | M66: =M67 -> 0 | N66: =SUM(K66:M66) -> 0 | O66: =K66+G66 -> 22248840 | P66: =L66+H66 -> 0 | Q66: =M66+I66 -> 0 | R66: =SUM(O66:Q66) -> 22248840 | S66: =O66/C66*100 -> 44.521544 | T66: 0 | U66: 0 | V66: =R66/F66*100 -> 44.521544 | W66: =F66-R66 -> 27724360 | X66: =G66+K66 -> 22248840 | Y66: =H66+L66 -> 0 | Z66: =I66+M66 -> 0
A67: 5.1.02.01.01.0031 | B67: Belanja Alat/Bahan untuk Kegiatan Kantor- Alat Listrik | C67: 49973200 | D67: 0 | E67: 0 | F67: =C67+D67+E67 -> 49973200 | G67: 22248840 | H67: 0 | I67: 0 | J67: =G67+H67+I67 -> 22248840 | N67: =SUM(K67:M67) -> 0 | O67: =K67+G67 -> 22248840 | P67: =L67+H67 -> 0 | Q67: =M67+I67 -> 0 | R67: =SUM(O67:Q67) -> 22248840 | S67: =O67/C67*100 -> 44.521544 | T67: 0 | U67: 0 | V67: =R67/F67*100 -> 44.521544 | W67: =F67-R67 -> 27724360 | X67: =G67+K67 -> 22248840 | Y67: =H67+L67 -> 0 | Z67: =I67+M67 -> 0
A68: 3.27.01.1.06.02 | B68: Penyediaan Peralatan dan Perlengkapan Kantor | C68: =SUM(C69:C85) -> 1135140357 | D68: =SUM(D69:D80) -> 0 | E68: =SUM(E69:E80) -> 0 | F68: =C68+D68+E68 -> 1135140357 | G68: =SUM(G69:G85) -> 802809470 | H68: =SUM(H69:H85) -> 0 | I68: =SUM(I69:I85) -> 0 | J68: =G68+H68+I68 -> 802809470 | K68: =SUM(K69:K85) -> 0 | L68: =SUM(L69:L85) -> 0 | M68: =SUM(M69:M85) -> 0 | N68: =SUM(N69:N85) -> 0 | O68: =K68+G68 -> 802809470 | P68: =L68+H68 -> 0 | Q68: =M68+I68 -> 0 | R68: =SUM(O68:Q68) -> 802809470 | S68: =O68/C68*100 -> 70.723366 | T68: 0 | U68: 0 | V68: =R68/F68*100 -> 70.723366 | W68: =F68-R68 -> 332330887 | X68: =G68+K68 -> 802809470 | Y68: =H68+L68 -> 0 | Z68: =I68+M68 -> 0
A69: 5.1.02.01.01.0024 | B69: Belanja Alat/Bahan untuk Kegiatan Kantor-Alat Tulis Kantor | C69: =66883453+111000 -> 66994453 | D69: 0 | E69: 0 | F69: =C69+D69+E69 -> 66994453 | G69: 24091390 | H69: 0 | I69: 0 | J69: =G69+H69+I69 -> 24091390 | N69: =SUM(K69:M69) -> 0 | O69: =K69+G69 -> 24091390 | P69: =L69+H69 -> 0 | Q69: =M69+I69 -> 0 | R69: =SUM(O69:Q69) -> 24091390 | S69: =O69/C69*100 -> 35.960276 | T69: 0 | U69: 0 | V69: =R69/F69*100 -> 35.960276 | W69: =F69-R69 -> 42903063 | X69: =G69+K69 -> 24091390 | Y69: =H69+L69 -> 0 | Z69: =I69+M69 -> 0
A70: 5.1.02.01.01.0025 | B70: Belanja Alat/Bahan untuk Kegiatan Kantor- Kertas dan Cover | C70: 25150900 | D70: 0 | E70: 0 | F70: =C70+D70+E70 -> 25150900 | G70: 13215660 | H70: 0 | I70: 0 | J70: =G70+H70+I70 -> 13215660 | N70: =SUM(K70:M70) -> 0 | O70: =K70+G70 -> 13215660 | P70: =L70+H70 -> 0 | Q70: =M70+I70 -> 0 | R70: =SUM(O70:Q70) -> 13215660 | S70: =O70/C70*100 -> 52.545476 | T70: 0 | U70: 0 | V70: =R70/F70*100 -> 52.545476 | W70: =F70-R70 -> 11935240 | X70: =G70+K70 -> 13215660 | Y70: =H70+L70 -> 0 | Z70: =I70+M70 -> 0
A71: 5.1.02.01.01.0029 | B71: Belanja Alat/Bahan untuk Kegiatan Kantor-Bahan Komputer | C71: 24333000 | D71: 0 | E71: 0 | F71: =C71+D71+E71 -> 24333000 | G71: 9962250 | H71: 0 | I71: 0 | J71: =G71+H71+I71 -> 9962250 | N71: =SUM(K71:M71) -> 0 | O71: =K71+G71 -> 9962250 | P71: =L71+H71 -> 0 | Q71: =M71+I71 -> 0 | R71: =SUM(O71:Q71) -> 9962250 | S71: =O71/C71*100 -> 40.941314 | T71: 0 | U71: 0 | V71: =R71/F71*100 -> 40.941314 | W71: =F71-R71 -> 14370750 | X71: =G71+K71 -> 9962250 | Y71: =H71+L71 -> 0 | Z71: =I71+M71 -> 0
A72: 5.1.02.01.01.0032 | B72: Belanja Alat/Bahan untuk Kegiatan Kantor-Perlengkapan Dinas | C72: 34386000 | D72: 0 | E72: 0 | F72: =C72+D72+E72 -> 34386000 | G72: 0 | H72: 0 | I72: 0 | J72: =G72+H72+I72 -> 0 | N72: =SUM(K72:M72) -> 0 | O72: =K72+G72 -> 0 | P72: =L72+H72 -> 0 | Q72: =M72+I72 -> 0 | R72: =SUM(O72:Q72) -> 0 | S72: =O72/C72*100 -> 0 | T72: 0 | U72: 0 | V72: =R72/F72*100 -> 0 | W72: =F72-R72 -> 34386000 | X72: =G72+K72 -> 0 | Y72: =H72+L72 -> 0 | Z72: =I72+M72 -> 0
A73: 5.1.02.01.01.0035 | B73: Belanja Alat/Bahan untuk Kegiatan KantorSuvenir/Cendera Mata | C73: 13125000 | D73: 0 | E73: 0 | F73: =C73+D73+E73 -> 13125000 | G73: 13125000 | J73: =G73+H73+I73 -> 13125000 | N73: =SUM(K73:M73) -> 0 | O73: =K73+G73 -> 13125000 | P73: =L73+H73 -> 0 | Q73: =M73+I73 -> 0 | R73: =SUM(O73:Q73) -> 13125000 | S73: =O73/C73*100 -> 100 | T73: 0 | U73: 0 | V73: =R73/F73*100 -> 100 | W73: =F73-R73 -> 0
A74: 5.1.02.01.01.0036 | B74: Belanja Alat/Bahan untuk Kegiatan Kantor-Alat/Bahan untuk Kegiatan Kantor Lainnya | C74: 98964800 | D74: 0 | E74: 0 | F74: =C74+D74+E74 -> 98964800 | G74: 43825170 | H74: 0 | I74: 0 | J74: =G74+H74+I74 -> 43825170 | N74: =SUM(K74:M74) -> 0 | O74: =K74+G74 -> 43825170 | P74: =L74+H74 -> 0 | Q74: =M74+I74 -> 0 | R74: =SUM(O74:Q74) -> 43825170 | S74: =O74/C74*100 -> 44.283594 | T74: 0 | U74: 0 | V74: =R74/F74*100 -> 44.283594 | W74: =F74-R74 -> 55139630 | X74: =G74+K74 -> 43825170 | Y74: =H74+L74 -> 0 | Z74: =I74+M74 -> 0
A75: 5.1.02.02.01.0055 | B75: Belanja Jasa Iklan/Reklame, Film, dan Pemotretan | C75: 46176000 | F75: =C75+D75+E75 -> 46176000 | G75: 46176000 | H75: 0 | I75: 0 | J75: =G75+H75+I75 -> 46176000 | L75: 0 | M75: 0 | N75: =SUM(K75:M75) -> 0 | O75: =K75+G75 -> 46176000 | P75: =L75+H75 -> 0 | Q75: =M75+I75 -> 0 | R75: =SUM(O75:Q75) -> 46176000 | S75: =O75/C75*100 -> 100 | T75: 0 | U75: 0 | V75: =R75/F75*100 -> 100 | W75: =F75-R75 -> 0 | X75: =G75+K75 -> 46176000 | Y75: =H75+L75 -> 0 | Z75: =I75+M75 -> 0
A76: 5.1.02.02.04.0117 | B76: Belanja Sewa Alat Kantor Lainnya | C76: =180000000-66912000 -> 113088000 | D76: 0 | E76: 0 | F76: =C76+D76+E76 -> 113088000 | G76: 67480000 | H76: 0 | I76: 0 | J76: =G76+H76+I76 -> 67480000 | L76: 0 | M76: 0 | N76: =SUM(K76:M76) -> 0 | O76: =K76+G76 -> 67480000 | P76: =L76+H76 -> 0 | Q76: =M76+I76 -> 0 | R76: =SUM(O76:Q76) -> 67480000 | S76: =O76/C76*100 -> 59.670345 | T76: 0 | U76: 0 | V76: =R76/F76*100 -> 59.670345 | W76: =F76-R76 -> 45608000 | X76: =G76+K76 -> 67480000 | Y76: =H76+L76 -> 0 | Z76: =I76+M76 -> 0
A77: 5.1.02.02.04.0132 | B77: Belanja Sewa Peralatan Studio Audio | C77: 7500000 | D77: 0 | E77: 0 | F77: =C77+D77+E77 -> 7500000 | G77: 7500000 | J77: =G77+H77+I77 -> 7500000
A78: 5.2.02.05.01.0005 | B78: Belanja Modal Alat Kantor Lainnya | C78: 5135500 | D78: 0 | E78: 0 | F78: =C78+D78+E78 -> 5135500 | G78: 0 | H78: 0 | I78: 0 | J78: =G78+H78+I78 -> 0 | N78: =SUM(K78:M78) -> 0 | O78: =K78+G78 -> 0 | P78: =L78+H78 -> 0 | Q78: =M78+I78 -> 0 | R78: =SUM(O78:Q78) -> 0 | S78: =O78/C78*100 -> 0 | T78: 0 | U78: 0 | V78: =R78/F78*100 -> 0 | W78: =F78-R78 -> 5135500 | X78: =G78+K78 -> 0 | Y78: =H78+L78 -> 0 | Z78: =I78+M78 -> 0
A79: 5.2.02.05.02.0006 | B79: Belanja Modal Alat Rumah Tangga Lainnya (Home Use) | C79: 32429300 | D79: 0 | E79: 0 | F79: =C79+D79+E79 -> 32429300 | G79: 0 | H79: 0 | I79: 0 | J79: =G79+H79+I79 -> 0 | N79: =SUM(K79:M79) -> 0 | O79: =K79+G79 -> 0 | P79: =L79+H79 -> 0 | Q79: =M79+I79 -> 0 | R79: =SUM(O79:Q79) -> 0 | S79: =O79/C79*100 -> 0 | T79: 0 | U79: 0 | V79: =R79/F79*100 -> 0 | W79: =F79-R79 -> 32429300 | X79: =G79+K79 -> 0 | Y79: =H79+L79 -> 0 | Z79: =I79+M79 -> 0
A80: 5.2.02.06.01.0001 | B80: Belanja Modal Peralatan Studio Audio | C80: 32578000 | D80: 0 | E80: 0 | F80: =C80+D80+E80 -> 32578000 | G80: 0 | H80: 0 | I80: 0 | J80: =G80+H80+I80 -> 0 | N80: =SUM(K80:M80) -> 0 | O80: =K80+G80 -> 0 | P80: =L80+H80 -> 0 | Q80: =M80+I80 -> 0 | R80: =SUM(O80:Q80) -> 0 | S80: =O80/C80*100 -> 0 | T80: 0 | U80: 0 | V80: =R80/F80*100 -> 0 | W80: =F80-R80 -> 32578000 | X80: =G80+K80 -> 0 | Y80: =H80+L80 -> 0 | Z80: =I80+M80 -> 0
A81: 5.2.02.06.01.0002 | B81: Belanja Modal Peralatan Studio Video dan Film | C81: 45935800 | D81: 0 | E81: 0 | F81: =C81+D81+E81 -> 45935800 | G81: 0 | H81: 0 | I81: 0 | J81: =G81+H81+I81 -> 0 | N81: =SUM(K81:M81) -> 0 | O81: =K81+G81 -> 0 | P81: =L81+H81 -> 0 | Q81: =M81+I81 -> 0 | R81: =SUM(O81:Q81) -> 0 | S81: =O81/C81*100 -> 0 | T81: 0 | U81: 0 | V81: =R81/F81*100 -> 0 | W81: =F81-R81 -> 45935800 | X81: =G81+K81 -> 0 | Y81: =H81+L81 -> 0 | Z81: =I81+M81 -> 0
A82: 5.2.02.06.02.0001 | B82: Belanja Modal Alat Komunikasi Telephone | C82: 2371000 | D82: 0 | E82: 0 | F82: =C82+D82+E82 -> 2371000 | G82: 0 | H82: 0 | I82: 0 | J82: =G82+H82+I82 -> 0 | N82: =SUM(K82:M82) -> 0 | O82: =K82+G82 -> 0 | P82: =L82+H82 -> 0 | Q82: =M82+I82 -> 0 | R82: =SUM(O82:Q82) -> 0 | S82: =O82/C82*100 -> 0 | T82: 0 | U82: 0 | V82: =R82/F82*100 -> 0 | W82: =F82-R82 -> 2371000 | X82: =G82+K82 -> 0 | Y82: =H82+L82 -> 0 | Z82: =I82+M82 -> 0
A83: 5.2.02.10.01.0002 | B83: Belanja Modal Personal Computer | C83: 481817019 | D83: 0 | E83: 0 | F83: =C83+D83+E83 -> 481817019 | G83: 474109000 | H83: 0 | I83: 0 | J83: =G83+H83+I83 -> 474109000 | N83: =SUM(K83:M83) -> 0 | O83: =K83+G83 -> 474109000 | P83: =L83+H83 -> 0 | Q83: =M83+I83 -> 0 | R83: =SUM(O83:Q83) -> 474109000 | S83: =O83/C83*100 -> 98.400219 | T83: 0 | U83: 0 | V83: =R83/F83*100 -> 98.400219 | W83: =F83-R83 -> 7708019 | X83: =G83+K83 -> 474109000 | Y83: =H83+L83 -> 0 | Z83: =I83+M83 -> 0
A84: 5.2.02.10.02.0003 | B84: Belanja Modal Peralatan Personal Computer | C84: 88029185 | D84: 0 | E84: 0 | F84: =C84+D84+E84 -> 88029185 | G84: 86345000 | H84: 0 | I84: 0 | J84: =G84+H84+I84 -> 86345000 | N84: =SUM(K84:M84) -> 0 | O84: =K84+G84 -> 86345000 | P84: =L84+H84 -> 0 | Q84: =M84+I84 -> 0 | R84: =SUM(O84:Q84) -> 86345000 | S84: =O84/C84*100 -> 98.086788 | T84: 0 | U84: 0 | V84: =R84/F84*100 -> 98.086788 | W84: =F84-R84 -> 1684185 | X84: =G84+K84 -> 86345000 | Y84: =H84+L84 -> 0 | Z84: =I84+M84 -> 0
A85: 5.2.02.10.02.0005 | B85: Belanja Modal Peralatan Komputer Lainnya | C85: 17126400 | D85: 0 | E85: 0 | F85: =C85+D85+E85 -> 17126400 | G85: 16980000 | H85: 0 | I85: 0 | J85: =G85+H85+I85 -> 16980000 | N85: =SUM(K85:M85) -> 0 | O85: =K85+G85 -> 16980000 | P85: =L85+H85 -> 0 | Q85: =M85+I85 -> 0 | R85: =SUM(O85:Q85) -> 16980000 | S85: =O85/C85*100 -> 99.145179 | T85: 0 | U85: 0 | V85: =R85/F85*100 -> 99.145179 | W85: =F85-R85 -> 146400 | X85: =G85+K85 -> 16980000 | Y85: =H85+L85 -> 0 | Z85: =I85+M85 -> 0
A86: 3.27.01.1.06.04 | B86: Penyediaan Bahan Logistik Kantor | C86: =SUM(C87:C87) -> 415298000 | D86: =SUM(D87:D87) -> 0 | E86: =SUM(E87:E87) -> 0 | F86: =C86+D86+E86 -> 415298000 | G86: =SUM(G87:G87) -> 145526000 | H86: =SUM(H87:H87) -> 0 | I86: =SUM(I87:I87) -> 0 | J86: =G86+H86+I86 -> 145526000 | K86: =SUM(K87:K87) -> 0 | L86: =SUM(L87:L87) -> 0 | M86: =SUM(M87:M87) -> 0 | N86: =SUM(K86:M86) -> 0 | O86: =K86+G86 -> 145526000 | P86: =L86+H86 -> 0 | Q86: =M86+I86 -> 0 | R86: =SUM(O86:Q86) -> 145526000 | S86: =O86/C86*100 -> 35.041344 | T86: 0 | U86: 0 | V86: =R86/F86*100 -> 35.041344 | W86: =F86-R86 -> 269772000 | X86: =G86+K86 -> 145526000 | Y86: =H86+L86 -> 0 | Z86: =I86+M86 -> 0
A87: 5.1.02.01.01.0052 | B87: Belanja Makanan dan Minuman Rapat | C87: 415298000 | D87: 0 | E87: 0 | F87: =C87+D87+E87 -> 415298000 | G87: 145526000 | H87: 0 | I87: 0 | J87: =G87+H87+I87 -> 145526000 | N87: =SUM(K87:M87) -> 0 | O87: =K87+G87 -> 145526000 | P87: =L87+H87 -> 0 | Q87: =M87+I87 -> 0 | R87: =SUM(O87:Q87) -> 145526000 | S87: =O87/C87*100 -> 35.041344 | T87: 0 | U87: 0 | V87: =R87/F87*100 -> 35.041344 | W87: =F87-R87 -> 269772000 | X87: =G87+K87 -> 145526000 | Y87: =H87+L87 -> 0 | Z87: =I87+M87 -> 0
A88: 3.27.01.1.06.05 | B88: Penyediaan Barang Cetakan dan Penggandaan | C88: =SUM(C89:C90) -> 54061360 | D88: =SUM(D89:D90) -> 0 | E88: =SUM(E89:E90) -> 0 | F88: =C88+D88+E88 -> 54061360 | G88: =SUM(G89:G90) -> 24595000 | H88: =SUM(H89:H90) -> 0 | I88: =SUM(I89:I90) -> 0 | J88: =G88+H88+I88 -> 24595000 | K88: =SUM(K89:K90) -> 0 | L88: =SUM(L89:L90) -> 0 | M88: =SUM(M89:M90) -> 0 | N88: =SUM(K88:M88) -> 0 | O88: =K88+G88 -> 24595000 | P88: =L88+H88 -> 0 | Q88: =M88+I88 -> 0 | R88: =SUM(O88:Q88) -> 24595000 | S88: =O88/C88*100 -> 45.494601 | T88: 0 | U88: 0 | V88: =R88/F88*100 -> 45.494601 | W88: =F88-R88 -> 29466360 | X88: =G88+K88 -> 24595000 | Y88: =H88+L88 -> 0 | Z88: =I88+M88 -> 0
A89: 5.1.02.01.01.0024 | B89: Belanja Alat/Bahan untuk Kegiatan Kantor-Alat Tulis Kantor | C89: 39220400 | D89: 0 | E89: 0 | F89: =C89+D89+E89 -> 39220400 | G89: 19100000 | H89: 0 | I89: 0 | J89: =G89+H89+I89 -> 19100000 | N89: =SUM(K89:M89) -> 0 | O89: =K89+G89 -> 19100000 | P89: =L89+H89 -> 0 | Q89: =M89+I89 -> 0 | R89: =SUM(O89:Q89) -> 19100000 | S89: =O89/C89*100 -> 48.699146 | T89: 0 | U89: 0 | V89: =R89/F89*100 -> 48.699146 | W89: =F89-R89 -> 20120400 | X89: =G89+K89 -> 19100000 | Y89: =H89+L89 -> 0 | Z89: =I89+M89 -> 0
A90: 5.1.02.01.01.0026 | B90: Belanja Alat/Bahan untuk Kegiatan Kantor- Bahan Cetak | C90: 14840960 | D90: 0 | E90: 0 | F90: =C90+D90+E90 -> 14840960 | G90: 5495000 | H90: 0 | I90: 0 | J90: =G90+H90+I90 -> 5495000 | N90: =SUM(K90:M90) -> 0 | O90: =K90+G90 -> 5495000 | P90: =L90+H90 -> 0 | Q90: =M90+I90 -> 0 | R90: =SUM(O90:Q90) -> 5495000 | S90: =O90/C90*100 -> 37.025907 | T90: 0 | U90: 0 | V90: =R90/F90*100 -> 37.025907 | W90: =F90-R90 -> 9345960 | X90: =G90+K90 -> 5495000 | Y90: =H90+L90 -> 0 | Z90: =I90+M90 -> 0
A91: 3.27.01.1.06.06 | B91: Penyediaan Bahan Bacaan dan Peraturan Perundang-Undangan | C91: =SUM(C92:C92) -> 10560000 | D91: =SUM(D92:D92) -> 0 | E91: =SUM(E92:E92) -> 0 | F91: =C91+D91+E91 -> 10560000 | G91: =SUM(G92:G92) -> 5600000 | H91: =SUM(H92:H92) -> 0 | I91: =SUM(I92:I92) -> 0 | J91: =G91+H91+I91 -> 5600000 | K91: =SUM(K92:K92) -> 0 | L91: =SUM(L92:L92) -> 0 | M91: =SUM(M92:M92) -> 0 | N91: =SUM(K91:M91) -> 0 | O91: =K91+G91 -> 5600000 | P91: =L91+H91 -> 0 | Q91: =M91+I91 -> 0 | R91: =SUM(O91:Q91) -> 5600000 | S91: =O91/C91*100 -> 53.030303 | T91: 0 | U91: 0 | V91: =R91/F91*100 -> 53.030303 | W91: =F91-R91 -> 4960000 | X91: =G91+K91 -> 5600000 | Y91: =H91+L91 -> 0 | Z91: =I91+M91 -> 0
A92: 5.1.02.02.01.0062 | B92: Belanja Langganan Jurnal/Surat Kabar/Majalah | C92: 10560000 | D92: 0 | E92: 0 | F92: =C92+D92+E92 -> 10560000 | G92: 5600000 | H92: 0 | I92: 0 | J92: =G92+H92+I92 -> 5600000 | N92: =SUM(K92:M92) -> 0 | O92: =K92+G92 -> 5600000 | P92: =L92+H92 -> 0 | Q92: =M92+I92 -> 0 | R92: =SUM(O92:Q92) -> 5600000 | S92: =O92/C92*100 -> 53.030303 | T92: 0 | U92: 0 | V92: =R92/F92*100 -> 53.030303 | W92: =F92-R92 -> 4960000 | X92: =G92+K92 -> 5600000 | Y92: =H92+L92 -> 0 | Z92: =I92+M92 -> 0
A93: 3.27.01.1.06.09 | B93: Penyelenggaraan Rapat Koordinasi dan Konsultasi SKPD | C93: =SUM(C94:C97) -> 1161380000 | D93: =SUM(D94:D96) -> 0 | E93: =SUM(E94:E96) -> 0 | F93: =C93+D93+E93 -> 1161380000 | G93: =SUM(G94:G97) -> 752231870 | H93: =SUM(H94:H97) -> 0 | I93: =SUM(I94:I97) -> 0 | J93: =G93+H93+I93 -> 752231870 | K93: =SUM(K94:K97) -> 0 | L93: =SUM(L94:L97) -> 0 | M93: =SUM(M94:M97) -> 0 | N93: =SUM(N94:N97) -> 0 | O93: =SUM(O94:O97) -> 752231870 | P93: =L93+H93 -> 0 | Q93: =M93+I93 -> 0 | R93: =SUM(O93:Q93) -> 752231870 | S93: =O93/C93*100 -> 64.77052 | T93: 0 | U93: 0 | V93: =R93/F93*100 -> 64.77052 | W93: =F93-R93 -> 409148130 | X93: =G93+K93 -> 752231870 | Y93: =H93+L93 -> 0 | Z93: =I93+M93 -> 0
A94: 5.1.02.01.01.0024 | B94: Belanja Alat/Bahan untuk Kegiatan Kantor-Alat Tulis Kantor | C94: 30000 | D94: 0 | E94: 0 | F94: =C94+D94+E94 -> 30000 | G94: 0 | H94: 0 | I94: 0 | J94: =G94+H94+I94 -> 0 | N94: =SUM(K94:M94) -> 0 | O94: =K94+G94 -> 0 | P94: =L94+H94 -> 0 | Q94: =M94+I94 -> 0 | R94: =SUM(O94:Q94) -> 0 | S94: =O94/C94*100 -> 0 | T94: 0 | U94: 0 | V94: =R94/F94*100 -> 0 | W94: =F94-R94 -> 30000 | X94: =G94+K94 -> 0 | Y94: =H94+L94 -> 0 | Z94: =I94+M94 -> 0
A95: 5.1.02.02.01.0003 | B95: Honorarium Narasumber atau Pembahas, Moderator, Pembawa Acara, dan Panitia | C95: 43400000 | D95: 0 | E95: 0 | F95: =C95+D95+E95 -> 43400000 | G95: 9050000 | H95: 0 | I95: 0 | J95: =G95+H95+I95 -> 9050000 | N95: =SUM(K95:M95) -> 0 | O95: =K95+G95 -> 9050000 | P95: =L95+H95 -> 0 | Q95: =M95+I95 -> 0 | R95: =SUM(O95:Q95) -> 9050000 | S95: =O95/C95*100 -> 20.852535 | T95: 0 | U95: 0 | V95: =R95/F95*100 -> 20.852535 | W95: =F95-R95 -> 34350000 | X95: =G95+K95 -> 9050000 | Y95: =H95+L95 -> 0 | Z95: =I95+M95 -> 0
A96: 5.1.02.02.01.0004 | B96: Honorarium Tim Pelaksana Kegiatan dan Sekretariat Tim Pelaksana Kegiatan | C96: 6750000 | D96: 0 | E96: 0 | F96: =C96+D96+E96 -> 6750000 | G96: 0 | H96: 0 | I96: 0 | J96: =G96+H96+I96 -> 0 | N96: =SUM(K96:M96) -> 0 | O96: =K96+G96 -> 0 | P96: =L96+H96 -> 0 | Q96: =M96+I96 -> 0 | R96: =SUM(O96:Q96) -> 0 | S96: =O96/C96*100 -> 0 | T96: 0 | U96: 0 | V96: =R96/F96*100 -> 0 | W96: =F96-R96 -> 6750000 | X96: =G96+K96 -> 0 | Y96: =H96+L96 -> 0 | Z96: =I96+M96 -> 0
A97: 5.1.02.04.01.0001 | B97: Belanja Perjalanan Dinas Biasa | C97: 1111200000 | D97: 0 | E97: 0 | F97: =C97+D97+E97 -> 1111200000 | G97: 743181870 | H97: 0 | I97: 0 | J97: =G97+H97+I97 -> 743181870 | N97: =SUM(K97:M97) -> 0 | O97: =K97+G97 -> 743181870 | P97: =L97+H97 -> 0 | Q97: =M97+I97 -> 0 | R97: =SUM(O97:Q97) -> 743181870 | S97: =O97/C97*100 -> 66.881018 | T97: 0 | U97: 0 | V97: =R97/F97*100 -> 66.881018 | W97: =F97-R97 -> 368018130 | X97: =G97+K97 -> 743181870 | Y97: =H97+L97 -> 0 | Z97: =I97+M97 -> 0
A98: Kegiatan (3.27.01.1.07) | B98: Pengadaan Barang Milik Daerah Penunjang Urusan Pemerintah Daerah | C98: =C99+C101+C103 -> 1794065188 | D98: =D99+D103 -> 0 | E98: =E99+E103 -> 0 | F98: =C98+D98+E98 -> 1794065188 | G98: =G99+G101+G103 -> 925487050 | H98: =H99+H101+H103 -> 0 | I98: =I99+I101+I103 -> 0 | J98: =G98+H98+I98 -> 925487050 | K98: =K99+K101+K103 -> 0 | L98: =L99+L101+L103 -> 0 | M98: =M99+M101+M103 -> 0 | N98: =SUM(K98:M98) -> 0 | O98: =K98+G98 -> 925487050 | P98: =L98+H98 -> 0 | Q98: =M98+I98 -> 0 | R98: =SUM(O98:Q98) -> 925487050 | S98: =O98/C98*100 -> 51.586032 | T98: 0 | U98: 0 | V98: =R98/F98*100 -> 51.586032 | W98: =F98-R98 -> 868578138 | X98: =G98+K98 -> 925487050 | Y98: =H98+L98 -> 0 | Z98: =I98+M98 -> 0
A99: 3.27.01.1.07.02 | B99: Pengadaan Kendaraan Dinas Operasional atau Lapangan | C99: =C100 -> 660000000 | D99: =D100 -> 0 | E99: =E100 -> 0 | F99: =C99+D99+E99 -> 660000000 | G99: =G100 -> 605500000 | H99: =H100 -> 0 | I99: =I100 -> 0 | J99: =G99+H99+I99 -> 605500000 | K99: =K100 -> 0 | L99: =L100 -> 0 | M99: =M100 -> 0 | N99: =SUM(K99:M99) -> 0 | O99: =K99+G99 -> 605500000 | P99: =L99+H99 -> 0 | Q99: =M99+I99 -> 0 | R99: =SUM(O99:Q99) -> 605500000 | S99: =O99/C99*100 -> 91.742424 | T99: 0 | U99: 0 | V99: =R99/F99*100 -> 91.742424 | W99: =F99-R99 -> 54500000 | X99: =G99+K99 -> 605500000 | Y99: =H99+L99 -> 0 | Z99: =I99+M99 -> 0
A100: 5.2.02.02.01.0001 | B100: Belanja Modal Kendaraan Dinas Bermotor Perorangan | C100: 660000000 | D100: 0 | E100: 0 | F100: =C100+D100+E100 -> 660000000 | G100: 605500000 | H100: 0 | I100: 0 | J100: =G100+H100+I100 -> 605500000 | N100: =SUM(K100:M100) -> 0 | O100: =K100+G100 -> 605500000 | P100: =L100+H100 -> 0 | Q100: =M100+I100 -> 0 | R100: =SUM(O100:Q100) -> 605500000 | S100: =O100/C100*100 -> 91.742424 | T100: 0 | U100: 0 | V100: =R100/F100*100 -> 91.742424 | W100: =F100-R100 -> 54500000 | X100: =G100+K100 -> 605500000 | Y100: =H100+L100 -> 0 | Z100: =I100+M100 -> 0
A101: 3.27.01.1.07.09 | B101: Pengadaan Gedung Kantor atau Bangunan Lainnya | C101: =SUM(C102) -> 257843000 | D101: =SUM(D102) -> 0 | E101: =SUM(E102) -> 0 | F101: =C101+D101+E101 -> 257843000 | G101: =SUM(G102) -> 34027050 | H101: =SUM(H102) -> 0 | I101: =SUM(I102) -> 0 | J101: =G101+H101+I101 -> 34027050 | K101: =SUM(K102) -> 0 | L101: =SUM(L102) -> 0 | M101: =SUM(M102) -> 0 | N101: =SUM(K101:M101) -> 0 | O101: =K101+G101 -> 34027050 | P101: =L101+H101 -> 0 | Q101: =M101+I101 -> 0 | R101: =SUM(O101:Q101) -> 34027050 | S101: =O101/C101*100 -> 13.19681 | T101: 0 | U101: 0 | V101: =R101/F101*100 -> 13.19681 | W101: =F101-R101 -> 223815950 | X101: =G101+K101 -> 34027050 | Y101: =H101+L101 -> 0 | Z101: =I101+M101 -> 0
A102: 5.2.03.01.01.0001 | B102: Belanja Modal Bangunan Gedung Kantor | C102: 257843000 | D102: 0 | E102: 0 | F102: =C102+D102+E102 -> 257843000 | G102: 34027050 | H102: 0 | I102: 0 | J102: =G102+H102+I102 -> 34027050 | N102: =SUM(K102:M102) -> 0 | O102: =K102+G102 -> 34027050 | P102: =L102+H102 -> 0 | Q102: =M102+I102 -> 0 | R102: =SUM(O102:Q102) -> 34027050 | S102: =O102/C102*100 -> 13.19681 | T102: 0 | U102: 0 | V102: =R102/F102*100 -> 13.19681 | W102: =F102-R102 -> 223815950 | X102: =G102+K102 -> 34027050 | Y102: =H102+L102 -> 0 | Z102: =I102+M102 -> 0
...

Sheet Sheet1
